BEGIN:VCALENDAR
VERSION:2.0
PRODID:-//Toronto Railway Museum - ECPv6.15.20//NONSGML v1.0//EN
CALSCALE:GREGORIAN
METHOD:PUBLISH
X-WR-CALNAME:Toronto Railway Museum
X-ORIGINAL-URL:https://railtest.marketaccess.ca
X-WR-CALDESC:Events for Toronto Railway Museum
REFRESH-INTERVAL;VALUE=DURATION:PT1H
X-Robots-Tag:noindex
X-PUBLISHED-TTL:PT1H
BEGIN:VTIMEZONE
TZID:America/New_York
BEGIN:DAYLIGHT
TZOFFSETFROM:-0500
TZOFFSETTO:-0400
TZNAME:EDT
DTSTART:20200308T070000
END:DAYLIGHT
BEGIN:STANDARD
TZOFFSETFROM:-0400
TZOFFSETTO:-0500
TZNAME:EST
DTSTART:20201101T060000
END:STANDARD
BEGIN:DAYLIGHT
TZOFFSETFROM:-0500
TZOFFSETTO:-0400
TZNAME:EDT
DTSTART:20210314T070000
END:DAYLIGHT
BEGIN:STANDARD
TZOFFSETFROM:-0400
TZOFFSETTO:-0500
TZNAME:EST
DTSTART:20211107T060000
END:STANDARD
BEGIN:DAYLIGHT
TZOFFSETFROM:-0500
TZOFFSETTO:-0400
TZNAME:EDT
DTSTART:20220313T070000
END:DAYLIGHT
BEGIN:STANDARD
TZOFFSETFROM:-0400
TZOFFSETTO:-0500
TZNAME:EST
DTSTART:20221106T060000
END:STANDARD
END:VTIMEZONE
BEGIN:VEVENT
DTSTART;TZID=America/New_York:20210624T110000
DTEND;TZID=America/New_York:20210630T233000
DTSTAMP:20260424T013451
CREATED:20210624T144646Z
LAST-MODIFIED:20210624T144646Z
UID:1207-1624532400-1625095800@railtest.marketaccess.ca
SUMMARY:Summer Instagram Giveaway
DESCRIPTION:We are thrilled to announce our summer giveaway! Restrictions are beginning to lift and local attractions are reopening. Therefore\, we’ve teamed up with 4 wonderful partners to bring you the most exciting Summer prize pack EVER!⁠ \n  \n\n⁠\nKick off your summer vacation with over $1450.00 worth of prizes. That is to say\, here are the participating partners in the giveaway:\n⁠\n– 4 General Admission Tickets to the CN Tower⁠\n– 4 Tickets From Toronto to Ottawa brought to you by VIA Rail⁠ Canada\n– An Outdoor Art Print of the Iconic Toronto Railway Museum Mural⁠ courtesy of Off The Wall On The Fence\n– A $100 Gift Certificate to the Chef’s House⁠\n– 4 Tickets to the Toronto Railway Museum⁠ \nHow to Enter the Summer Giveaway: \nTo sum up\, to enter the summer giveaway visit our Instagram page. Contest closes on Wednesday June 30 at 11:59pm and is open to residents of Ontario ONLY. Additionally\, winner will be announced on Thursday July 1 on Instagram stories! Moreover\, the winner will be contacted directly via DM by @OffTheWallOnTheFence. ⁠Good luck! \n  \nCLICK HERE TO ENTER ON THE TORONTO RAILWAY MUSEUM INSTAGRAM \n  \nWe’re looking forward to celebrating the start of the summer season here in Toronto. Above all\, we encourage you to support local as restrictions begin to lift.
URL:https://railtest.marketaccess.ca/event/summer-instagram-giveaway/
END:VEVENT
END:VCALENDAR