BEGIN:VCALENDAR
VERSION:2.0
PRODID:-//Toronto Railway Museum - ECPv6.15.20//NONSGML v1.0//EN
CALSCALE:GREGORIAN
METHOD:PUBLISH
X-WR-CALNAME:Toronto Railway Museum
X-ORIGINAL-URL:https://railtest.marketaccess.ca
X-WR-CALDESC:Events for Toronto Railway Museum
REFRESH-INTERVAL;VALUE=DURATION:PT1H
X-Robots-Tag:noindex
X-PUBLISHED-TTL:PT1H
BEGIN:VTIMEZONE
TZID:America/New_York
BEGIN:DAYLIGHT
TZOFFSETFROM:-0500
TZOFFSETTO:-0400
TZNAME:EDT
DTSTART:20200308T070000
END:DAYLIGHT
BEGIN:STANDARD
TZOFFSETFROM:-0400
TZOFFSETTO:-0500
TZNAME:EST
DTSTART:20201101T060000
END:STANDARD
BEGIN:DAYLIGHT
TZOFFSETFROM:-0500
TZOFFSETTO:-0400
TZNAME:EDT
DTSTART:20210314T070000
END:DAYLIGHT
BEGIN:STANDARD
TZOFFSETFROM:-0400
TZOFFSETTO:-0500
TZNAME:EST
DTSTART:20211107T060000
END:STANDARD
BEGIN:DAYLIGHT
TZOFFSETFROM:-0500
TZOFFSETTO:-0400
TZNAME:EDT
DTSTART:20220313T070000
END:DAYLIGHT
BEGIN:STANDARD
TZOFFSETFROM:-0400
TZOFFSETTO:-0500
TZNAME:EST
DTSTART:20221106T060000
END:STANDARD
END:VTIMEZONE
BEGIN:VEVENT
DTSTART;TZID=America/New_York:20210701T123000
DTEND;TZID=America/New_York:20210723T163000
DTSTAMP:20260423T235155
CREATED:20210624T180449Z
LAST-MODIFIED:20210711T153715Z
UID:1217-1625142600-1627057800@railtest.marketaccess.ca
SUMMARY:Outdoor Tours
DESCRIPTION:Uncover the stories of Toronto’s railways with our outdoor tours! The Toronto Railway Museum Outdoor Tour explores how Toronto’s railways shaped the social landscape of the city since their introduction in the early 1800s. How were Toronto’s oldest communities impacted by the development of the railways? Further\, what stories do our train cars tell? Join us to find out! Tours are in-depth\, guided walking tours that take visitors around the museum grounds and tour length is approximately 30 minutes. \nFirstly\, outdoor tours take place entirely outdoors and do not enter the museum space or inside the train cars as per Stage 1 of the Ontario reopening plan. Masks are mandatory throughout the duration of the guided tour. Also\, groups should maintain a physical distance of 2 metres from other visitors and TRM staff. Finally\, all guided tour tickets must be pre-booked in advance. Timed ticketing will accommodate reduced visitor numbers and physical distancing. Tours run 4 times per day: 12:30pm\, 2:00pm\, 3:00pm\, and 4:00pm! Pre-book your tickets here. \nThe Toronto Railway Museum is delighted to announce it has been awarded the #SafeTravels Stamp by the World Travel & Tourism Council for adopting health and hygiene global standardized protocols. The Safe Travels Stamp is an international symbol designed to allow travelers to recognize governments and companies around the world\, which have adopted health and hygiene\, standardized protocols.
URL:https://railtest.marketaccess.ca/event/outdoor-tours/
LOCATION:Toronto Railway Museum\, 255 Bremner Blvd\, Stall 17\, Toronto\, Ontario\, M5V 3M9\, Canada
ATTACH;FMTTYPE=image/png:https://railtest.marketaccess.ca/wp-content/uploads/2021/06/3.png
END:VEVENT
END:VCALENDAR