BEGIN:VCALENDAR
VERSION:2.0
PRODID:-//Toronto Railway Museum - ECPv6.15.20//NONSGML v1.0//EN
CALSCALE:GREGORIAN
METHOD:PUBLISH
X-WR-CALNAME:Toronto Railway Museum
X-ORIGINAL-URL:https://railtest.marketaccess.ca
X-WR-CALDESC:Events for Toronto Railway Museum
REFRESH-INTERVAL;VALUE=DURATION:PT1H
X-Robots-Tag:noindex
X-PUBLISHED-TTL:PT1H
BEGIN:VTIMEZONE
TZID:America/New_York
BEGIN:DAYLIGHT
TZOFFSETFROM:-0500
TZOFFSETTO:-0400
TZNAME:EDT
DTSTART:20220313T070000
END:DAYLIGHT
BEGIN:STANDARD
TZOFFSETFROM:-0400
TZOFFSETTO:-0500
TZNAME:EST
DTSTART:20221106T060000
END:STANDARD
BEGIN:DAYLIGHT
TZOFFSETFROM:-0500
TZOFFSETTO:-0400
TZNAME:EDT
DTSTART:20230312T070000
END:DAYLIGHT
BEGIN:STANDARD
TZOFFSETFROM:-0400
TZOFFSETTO:-0500
TZNAME:EST
DTSTART:20231105T060000
END:STANDARD
BEGIN:DAYLIGHT
TZOFFSETFROM:-0500
TZOFFSETTO:-0400
TZNAME:EDT
DTSTART:20240310T070000
END:DAYLIGHT
BEGIN:STANDARD
TZOFFSETFROM:-0400
TZOFFSETTO:-0500
TZNAME:EST
DTSTART:20241103T060000
END:STANDARD
END:VTIMEZONE
BEGIN:VEVENT
DTSTART;TZID=America/New_York:20230311T120000
DTEND;TZID=America/New_York:20230319T170000
DTSTAMP:20260422T162953
CREATED:20230212T145153Z
LAST-MODIFIED:20230316T185101Z
UID:3137-1678536000-1679245200@railtest.marketaccess.ca
SUMMARY:March Break at TRM
DESCRIPTION:Visit the Toronto Railway Museum over March Break 2023! \n  \nStall 17 Museum\nThe museum space in Stall 17 is open to visitors Wednesday-Sunday 12:00 pm – 5:00 pm. Stop by to enjoy exhibits\, kids activities\, and the train simulator. \n  \nSHARKS VS TRAINS\nVisit the Toronto Railway Museum on March 16 and 17 from 12:00 – 4:00pm for Sharks vs Trains! This drop-in family program is full of games and activities designed for kids to explore the museum and beyond! Program runs throughout the afternoons and is inspired by the book by Chris Barton and Tom Lichtenheld. This program is included in the price of museum admission.  \nMuseum Store\nThe museum store in Don Station is back! Join us starting Saturday\, March 11 back inside Don Station to shop books\, toys\, and railway gifts. Learn more about the museum store.
URL:https://railtest.marketaccess.ca/event/march-break-at-trm/
ATTACH;FMTTYPE=image/png:https://railtest.marketaccess.ca/wp-content/uploads/2023/02/YEARS.png
END:VEVENT
END:VCALENDAR