BEGIN:VCALENDAR
VERSION:2.0
PRODID:-//Toronto Railway Museum - ECPv6.15.20//NONSGML v1.0//EN
CALSCALE:GREGORIAN
METHOD:PUBLISH
X-WR-CALNAME:Toronto Railway Museum
X-ORIGINAL-URL:https://railtest.marketaccess.ca
X-WR-CALDESC:Events for Toronto Railway Museum
REFRESH-INTERVAL;VALUE=DURATION:PT1H
X-Robots-Tag:noindex
X-PUBLISHED-TTL:PT1H
BEGIN:VTIMEZONE
TZID:America/New_York
BEGIN:DAYLIGHT
TZOFFSETFROM:-0500
TZOFFSETTO:-0400
TZNAME:EDT
DTSTART:20220313T070000
END:DAYLIGHT
BEGIN:STANDARD
TZOFFSETFROM:-0400
TZOFFSETTO:-0500
TZNAME:EST
DTSTART:20221106T060000
END:STANDARD
BEGIN:DAYLIGHT
TZOFFSETFROM:-0500
TZOFFSETTO:-0400
TZNAME:EDT
DTSTART:20230312T070000
END:DAYLIGHT
BEGIN:STANDARD
TZOFFSETFROM:-0400
TZOFFSETTO:-0500
TZNAME:EST
DTSTART:20231105T060000
END:STANDARD
BEGIN:DAYLIGHT
TZOFFSETFROM:-0500
TZOFFSETTO:-0400
TZNAME:EDT
DTSTART:20240310T070000
END:DAYLIGHT
BEGIN:STANDARD
TZOFFSETFROM:-0400
TZOFFSETTO:-0500
TZNAME:EST
DTSTART:20241103T060000
END:STANDARD
END:VTIMEZONE
BEGIN:VEVENT
DTSTART;TZID=America/New_York:20230420T190000
DTEND;TZID=America/New_York:20230420T203000
DTSTAMP:20260422T144617
CREATED:20230218T180237Z
LAST-MODIFIED:20230402T161322Z
UID:3147-1682017200-1682022600@railtest.marketaccess.ca
SUMMARY:Online Lecture: Streetcars and the Shifting Geographies of Toronto
DESCRIPTION:Join us for “Streetcars and the Shifting Geographies of Toronto”\, an online lecture on April 20! \nWhat can photos taken by streetcar enthusiasts reveal about the changing nature of cities? This is the question explored by Brian and Michael Doucet in their book Streetcars and the Shifting Geographies of Toronto: a visual analysis of change. The Doucets carefully and meticulously rephotograph these images taken in the 1960s and 70s to bring them into dialogue with contemporary planning\, policy\, political and public debates.  \n  \nStreetcar enthusiasts did not intend to document the major forces of change shaping cities\, but their images show far more than just the vehicles. In pursuit of their hobby\, these enthusiasts photographed cities in ways that very few other people did\, and took pictures in parts of the city that would have otherwise gone unphotographed. \n  \nWhen paired with photos taken at the same locations today\, these images show the subtle and not-so-subtle economic\, social\, demographic and spatial changes that have taken place as Toronto has transitioned from an industrial and provincial city\, to one of the world’s major global metropolises. They show how these forces of change are reflected in the buildings\, streets and land uses across the city. \nThere are many books\, studies and reports that try to understand long-term changes in cities such as Toronto. Streetcars is one of the few that uses visual images as the primary way to analyse change. The Doucets aim to challenge everyone – scholars\, students\, planners\, politicians and the wider public – to look at their cities in new and different ways. \n  \nJoin us for this engaging and insightful discussion about how photography can be used to better understand cities and urban change.  \n  \nTICKETS AVAILABLE HERE \n  \nABOUT BRIAN DOUCET\nBrian Doucet is the Canada Research Chair in Urban Change and Social Inclusion in the School of Planning at the University of Waterloo.  \n  \nABOUT MICHAEL DOUCET\nMichael Doucet is an Emeritus Professor in the Department of Geography at Toronto Metropolitan University \n  \nABOUT THE TORONTO RAILWAY MUSEUM (TRM)\nThe Toronto Railway Museum (TRM) brings people together by telling stories of Toronto’s railway heritage. The Museum is located in the heart of downtown Toronto and is typically open year-round. TRM presents exhibits\, tours\, educational programs and publications that broaden the understanding and appreciation of Toronto’s rich railway history. TRM is committed to telling the stories of the railways\, and welcoming conversations of its varied experiences through its lecture series\, exhibits and integrated programming with a mission to learn from the past to make the future better. \n 
URL:https://railtest.marketaccess.ca/event/online-lecture-streetcars-and-the-shifting-geographies-of-toronto/
ATTACH;FMTTYPE=image/jpeg:https://railtest.marketaccess.ca/wp-content/uploads/2023/02/TRM-website-event-header-1100x400-1.jpg
END:VEVENT
END:VCALENDAR