BEGIN:VCALENDAR
VERSION:2.0
PRODID:-//Toronto Railway Museum - ECPv6.15.20//NONSGML v1.0//EN
CALSCALE:GREGORIAN
METHOD:PUBLISH
X-ORIGINAL-URL:https://railtest.marketaccess.ca
X-WR-CALDESC:Events for Toronto Railway Museum
REFRESH-INTERVAL;VALUE=DURATION:PT1H
X-Robots-Tag:noindex
X-PUBLISHED-TTL:PT1H
BEGIN:VTIMEZONE
TZID:America/New_York
BEGIN:DAYLIGHT
TZOFFSETFROM:-0500
TZOFFSETTO:-0400
TZNAME:EDT
DTSTART:20220313T070000
END:DAYLIGHT
BEGIN:STANDARD
TZOFFSETFROM:-0400
TZOFFSETTO:-0500
TZNAME:EST
DTSTART:20221106T060000
END:STANDARD
BEGIN:DAYLIGHT
TZOFFSETFROM:-0500
TZOFFSETTO:-0400
TZNAME:EDT
DTSTART:20230312T070000
END:DAYLIGHT
BEGIN:STANDARD
TZOFFSETFROM:-0400
TZOFFSETTO:-0500
TZNAME:EST
DTSTART:20231105T060000
END:STANDARD
BEGIN:DAYLIGHT
TZOFFSETFROM:-0500
TZOFFSETTO:-0400
TZNAME:EDT
DTSTART:20240310T070000
END:DAYLIGHT
BEGIN:STANDARD
TZOFFSETFROM:-0400
TZOFFSETTO:-0500
TZNAME:EST
DTSTART:20241103T060000
END:STANDARD
END:VTIMEZONE
BEGIN:VEVENT
DTSTART;TZID=America/New_York:20230615T123000
DTEND;TZID=America/New_York:20230813T160000
DTSTAMP:20260422T094227
CREATED:20230602T194910Z
LAST-MODIFIED:20230806T173456Z
UID:3395-1686832200-1691942400@railtest.marketaccess.ca
SUMMARY:Guided Tours at TRM
DESCRIPTION:Uncover the stories of Toronto’s railways with a guided tour! The Toronto Railway Museum Roundhouse Park Tour explores how Toronto’s railways shaped the social landscape of the city since their introduction in the early 1800s. How were Toronto’s oldest communities impacted by the development of the railways? Further\, what stories do our train cars tell? Join us to find out! Tours are in-depth\, guided walking tours that take visitors around the museum grounds and aboard some of the rolling stock on display. Tour length is approximately 30 minutes. \n\n\n\nTour Schedule\n\n\n\nGuided tours will be offered daily beginning on Thursday\, June 15 and run until Sunday\, August 13. Tours run at 12:30 pm\, 2:00 pm\, 3:00 pm\, and 4:00 pm. Tours are included in the price of museum admission and visitors can register to join a tour upon arrival to the museum. \n\n\n\nIf you have any tour questions\, please reach out via email manager@trha.ca or phone (416) 214-9229.
URL:https://railtest.marketaccess.ca/event/guided-tours-at-trm/
ATTACH;FMTTYPE=image/png:https://railtest.marketaccess.ca/wp-content/uploads/2023/06/Untitled.png
END:VEVENT
BEGIN:VEVENT
DTSTART;TZID=America/New_York:20230708T080000
DTEND;TZID=America/New_York:20230723T170000
DTSTAMP:20260422T094227
CREATED:20230614T185640Z
LAST-MODIFIED:20230706T170600Z
UID:3417-1688803200-1690131600@railtest.marketaccess.ca
SUMMARY:Historic Places Days 2023
DESCRIPTION:Join us July 8-23 as we discover our rich and diverse history through #HistoricPlacesDays. \nSELFIE CONTEST\n \nThe National Trust for Canada is giving away a total of $2000\, and over $10000 in prizes\, in support of Historic Places Days. Get creative with a selfie or photo taken at the museum\, and post it on Facebook or Instagram with the hashtag #HistoricPlacesDays before July 23 for a chance to win $1\,000 for you and $1\,000 for the tagged historic site (tag us @TORailwayMuseum)! Enter the contest today. \n \nCourtesy of Brooklynn St \n \nCourtesy of oaktreeb on Instagram \n  \nVisit lists\nBuild your dream Historic Places Days itinerary with Visit Lists! Whether you’d like to round-up your favourite local spots\, or make a wish list of must-see sites across Canada\, Visit Lists let you personalize your #HistoricPlacesDays. \nFrom July 1st to 31st\, you create and share your #VisitList online for a chance to win one of fifteen $500 VIA vouchers! It’s simple and easy to do with only a few short steps. To enter\, set up an account on Historic Places Days\, start off your one of a kind #VisitList with a catchy title\, featured image\, and an introduction of at least 100 words to invite online travelers to check out your amazing itinerary. Your #Visitlist should be composed of a minimum of three sites which are registered on the Historic Places Days – Every Place A Story website. \nCheck out two of our past Visit Lists below. \nAll Aboard! Visit List\nFind a railway museum or heritage site near you with this Historic Places Days Visit List\nHop on board and explore these railway heritage sites and museums! From museums and heritage train stations\, to operating steam railways and memorial gardens\, there’s something for everyone on this Visit List. Moreover\, discover the ways Canada’s railway history changed your local area with one of these Historic Places. Above all\, happy exploring! \nIn the Neighbourhood Visit List\nThere’s so much to explore! Here are some of our favourite Historic Sites in the neighbourhood of the Toronto Railway Museum\nFinding yourself in downtown Toronto? Wondering where to explore next? This list is here to guide your plans. While Toronto’s downtown core may look like a jungle of glittering skyscrapers at first\, there are hidden pockets of history everywhere you go! These places are within an approximately hour-long walk\, or a 30 minute transit ride away from the Toronto Railway Museum. \nTHE JOHN STREET ROUNDHOUSE\nThe Toronto Railway Museum is housed within the historic John Street Roundhouse. The best surviving example of a railway roundhouse in Canada\, John Street was build in 1929 to service passenger steam locomotives. Discover the John Street Roundhouse’s story.
URL:https://railtest.marketaccess.ca/event/historic-places-days-2023/
ATTACH;FMTTYPE=image/png:https://railtest.marketaccess.ca/wp-content/uploads/2022/06/YEARS-1.png
END:VEVENT
END:VCALENDAR