BEGIN:VCALENDAR
VERSION:2.0
PRODID:-//Toronto Railway Museum - ECPv6.15.20//NONSGML v1.0//EN
CALSCALE:GREGORIAN
METHOD:PUBLISH
X-WR-CALNAME:Toronto Railway Museum
X-ORIGINAL-URL:https://railtest.marketaccess.ca
X-WR-CALDESC:Events for Toronto Railway Museum
REFRESH-INTERVAL;VALUE=DURATION:PT1H
X-Robots-Tag:noindex
X-PUBLISHED-TTL:PT1H
BEGIN:VTIMEZONE
TZID:America/New_York
BEGIN:DAYLIGHT
TZOFFSETFROM:-0500
TZOFFSETTO:-0400
TZNAME:EDT
DTSTART:20220313T070000
END:DAYLIGHT
BEGIN:STANDARD
TZOFFSETFROM:-0400
TZOFFSETTO:-0500
TZNAME:EST
DTSTART:20221106T060000
END:STANDARD
BEGIN:DAYLIGHT
TZOFFSETFROM:-0500
TZOFFSETTO:-0400
TZNAME:EDT
DTSTART:20230312T070000
END:DAYLIGHT
BEGIN:STANDARD
TZOFFSETFROM:-0400
TZOFFSETTO:-0500
TZNAME:EST
DTSTART:20231105T060000
END:STANDARD
BEGIN:DAYLIGHT
TZOFFSETFROM:-0500
TZOFFSETTO:-0400
TZNAME:EDT
DTSTART:20240310T070000
END:DAYLIGHT
BEGIN:STANDARD
TZOFFSETFROM:-0400
TZOFFSETTO:-0500
TZNAME:EST
DTSTART:20241103T060000
END:STANDARD
END:VTIMEZONE
BEGIN:VEVENT
DTSTART;TZID=America/New_York:20230817T190000
DTEND;TZID=America/New_York:20230817T203000
DTSTAMP:20260422T075431
CREATED:20230709T155443Z
LAST-MODIFIED:20230729T205858Z
UID:3474-1692298800-1692304200@railtest.marketaccess.ca
SUMMARY:Online Lecture: Beyond HFR: Advancing Passenger Rail Across Canada
DESCRIPTION:Join us for “Beyond HFR: Advancing Passenger Rail Across Canada”\, an online lecture on August 17! \nAn acronym for High Frequency Rail\, HFR is one of Canada’s biggest projects yet. The goal is simple\, to connect different parts of Canada by rail at faster speeds than we’ve never seen before. Join Terry Johnson\, Vice President of Transport Action Canada for his presentation about the opportunities for near-term improvements to passenger rail service and the challenges facing VIA Rail today. \n  \nTICKETS AVAILABLE NOW \n  \nABOUT TERRY JOHNSON \nTerry Johnson is president of Transport Action Canada\, the national advocacy organization for sustainable public transport\, and the voice of train\, bus and ferry passengers. He has been involved in passenger advocacy for more than a decade\, starting in Southwestern Ontario where has lived since coming to Canada in 2003. \n  \nHe has studied Railway Engineering at Technical University Delft\, leadership with the Ivey School of Business\, and has a Master’s in Politics and Economics from the University of Oxford. He is also an entrepreneur\, with experience in computer science and artificial intelligence\, and also volunteers with two social housing organizations\, and the VIA Historical Association. \n  \nABOUT THE TORONTO RAILWAY MUSEUM (TRM) \nThe Toronto Railway Museum (TRM) brings people together by telling stories of Toronto’s railway heritage. The Museum is located in the heart of downtown Toronto and is typically open year-round. TRM presents exhibits\, tours\, educational programs and publications that broaden the understanding and appreciation of Toronto’s rich railway history. TRM is committed to telling the stories of the railways\, and welcoming conversations of its varied experiences through its lecture series\, exhibits and integrated programming with a mission to learn from the past to make the future better.
URL:https://railtest.marketaccess.ca/event/online-lecture-beyond-hfr-advancing-passenger-rail-across-canada/
ATTACH;FMTTYPE=image/png:https://railtest.marketaccess.ca/wp-content/uploads/2023/07/7.TRM-website-event-banner-1200-x-500px-1.png
END:VEVENT
END:VCALENDAR