BEGIN:VCALENDAR
VERSION:2.0
PRODID:-//Toronto Railway Museum - ECPv6.15.20//NONSGML v1.0//EN
CALSCALE:GREGORIAN
METHOD:PUBLISH
X-WR-CALNAME:Toronto Railway Museum
X-ORIGINAL-URL:https://railtest.marketaccess.ca
X-WR-CALDESC:Events for Toronto Railway Museum
REFRESH-INTERVAL;VALUE=DURATION:PT1H
X-Robots-Tag:noindex
X-PUBLISHED-TTL:PT1H
BEGIN:VTIMEZONE
TZID:America/New_York
BEGIN:DAYLIGHT
TZOFFSETFROM:-0500
TZOFFSETTO:-0400
TZNAME:EDT
DTSTART:20220313T070000
END:DAYLIGHT
BEGIN:STANDARD
TZOFFSETFROM:-0400
TZOFFSETTO:-0500
TZNAME:EST
DTSTART:20221106T060000
END:STANDARD
BEGIN:DAYLIGHT
TZOFFSETFROM:-0500
TZOFFSETTO:-0400
TZNAME:EDT
DTSTART:20230312T070000
END:DAYLIGHT
BEGIN:STANDARD
TZOFFSETFROM:-0400
TZOFFSETTO:-0500
TZNAME:EST
DTSTART:20231105T060000
END:STANDARD
BEGIN:DAYLIGHT
TZOFFSETFROM:-0500
TZOFFSETTO:-0400
TZNAME:EDT
DTSTART:20240310T070000
END:DAYLIGHT
BEGIN:STANDARD
TZOFFSETFROM:-0400
TZOFFSETTO:-0500
TZNAME:EST
DTSTART:20241103T060000
END:STANDARD
END:VTIMEZONE
BEGIN:VEVENT
DTSTART;TZID=America/New_York:20231007T080000
DTEND;TZID=America/New_York:20231011T170000
DTSTAMP:20260422T042119
CREATED:20230910T201636Z
LAST-MODIFIED:20230910T211723Z
UID:3627-1696665600-1697043600@railtest.marketaccess.ca
SUMMARY:Thanksgiving Hours
DESCRIPTION:The Toronto Railway Museum is closed on Monday\, October 9\, 2023. \n  \nVisit the museum in Stall 17 of the John Street Roundhouse and browse the museum store in Don Station. \n  \nHours: \nSaturday\, October 7:  Open\, 12:00-5:00 pm \nSunday\, October 8: Open\, 12:00-5:00 pm \nMonday\, October 9: Closed \nTuesday\, October 10: Closed \nWednesday\, October 11: Closed \nRegular hours resume on Thursday\, October 12. \n  \nStall 17 Museum \nThe museum space in Stall 17 is open to visitors for October 7-8\, Thanksgiving weekend! Visit the museum to time-travel back to when Toronto was covered in train tracks and the John Street Roundhouse was bustling with activity! Don’t forget to test drive the train simulator. Our train simulator transports you back to the Toronto Rail Lands in the 1950s.  \n  \nMuseum Store \nThe Toronto Railway Museum store carries a range of gifts\, toys\, souvenirs\, and books. By shopping with us\, you are supporting the preservation of Toronto’s railway heritage and all sales are in support of the museum. Find the museum store inside Don Station during museum hours.
URL:https://railtest.marketaccess.ca/event/thanksgiving-hours-2/
END:VEVENT
END:VCALENDAR