BEGIN:VCALENDAR
VERSION:2.0
PRODID:-//Toronto Railway Museum - ECPv6.15.20//NONSGML v1.0//EN
CALSCALE:GREGORIAN
METHOD:PUBLISH
X-ORIGINAL-URL:https://railtest.marketaccess.ca
X-WR-CALDESC:Events for Toronto Railway Museum
REFRESH-INTERVAL;VALUE=DURATION:PT1H
X-Robots-Tag:noindex
X-PUBLISHED-TTL:PT1H
BEGIN:VTIMEZONE
TZID:America/New_York
BEGIN:DAYLIGHT
TZOFFSETFROM:-0500
TZOFFSETTO:-0400
TZNAME:EDT
DTSTART:20220313T070000
END:DAYLIGHT
BEGIN:STANDARD
TZOFFSETFROM:-0400
TZOFFSETTO:-0500
TZNAME:EST
DTSTART:20221106T060000
END:STANDARD
BEGIN:DAYLIGHT
TZOFFSETFROM:-0500
TZOFFSETTO:-0400
TZNAME:EDT
DTSTART:20230312T070000
END:DAYLIGHT
BEGIN:STANDARD
TZOFFSETFROM:-0400
TZOFFSETTO:-0500
TZNAME:EST
DTSTART:20231105T060000
END:STANDARD
BEGIN:DAYLIGHT
TZOFFSETFROM:-0500
TZOFFSETTO:-0400
TZNAME:EDT
DTSTART:20240310T070000
END:DAYLIGHT
BEGIN:STANDARD
TZOFFSETFROM:-0400
TZOFFSETTO:-0500
TZNAME:EST
DTSTART:20241103T060000
END:STANDARD
END:VTIMEZONE
BEGIN:VEVENT
DTSTART;TZID=America/New_York:20231015T120000
DTEND;TZID=America/New_York:20231015T170000
DTSTAMP:20260422T042446
CREATED:20231007T162825Z
LAST-MODIFIED:20231012T151623Z
UID:3645-1697371200-1697389200@railtest.marketaccess.ca
SUMMARY:Roundhouse Birthday
DESCRIPTION:The John Street Roundhouse is celebrating its 94th birthday on Sunday\, October 15\, 2023! \nThe museum and museum store are open from 12:00 pm – 5:00 pm with special guided tours and museum store offers planned: \nGUIDED TOURS\nLearn more about the John Street Roundhouse\, its history\, and its function on a guided tour. Roundhouse tours offer visitors a deeper dive into the features of the building as well as a peek behind the scenes. Tours run at 2:30 pm\, 3:30pm\, and 4:30 pm\, and are approximately 20 minutes. Sign up at the reception desk when you purchase admission. \nMuseum Store\nTo celebrate the John Street Roundhouse’s 94th birthday\, visitors can pick up a free postcard bundle from the museum store in Don Station. Commemorate the Roundhouse’s special anniversary with cards featuring the iconic building. Available while supplies last in the museum store; suggested donation $2. \n \nThe Toronto Railway Museum store carries a range of gifts\, toys\, souvenirs\, and books. By shopping with us\, you are supporting the preservation of Toronto’s railway heritage and all sales are in support of the museum. Find the museum store inside Don Station during museum hours. \n  \nStall 17 Museum\nThe museum space in Stall 17 is open to visitors. Visit the museum to time-travel back to when Toronto was covered in train tracks and the John Street Roundhouse was bustling with activity! Don’t forget to test drive the train simulator. Our train simulator transports you back to the Toronto Rail Lands in the 1950s. \n 
URL:https://railtest.marketaccess.ca/event/roundhouse-birthday/
ATTACH;FMTTYPE=image/png:https://railtest.marketaccess.ca/wp-content/uploads/2023/10/jsr-94-Twitter-Post-2.png
END:VEVENT
END:VCALENDAR