BEGIN:VCALENDAR
VERSION:2.0
PRODID:-//Toronto Railway Museum - ECPv6.15.20//NONSGML v1.0//EN
CALSCALE:GREGORIAN
METHOD:PUBLISH
X-ORIGINAL-URL:https://railtest.marketaccess.ca
X-WR-CALDESC:Events for Toronto Railway Museum
REFRESH-INTERVAL;VALUE=DURATION:PT1H
X-Robots-Tag:noindex
X-PUBLISHED-TTL:PT1H
BEGIN:VTIMEZONE
TZID:America/New_York
BEGIN:DAYLIGHT
TZOFFSETFROM:-0500
TZOFFSETTO:-0400
TZNAME:EDT
DTSTART:20220313T070000
END:DAYLIGHT
BEGIN:STANDARD
TZOFFSETFROM:-0400
TZOFFSETTO:-0500
TZNAME:EST
DTSTART:20221106T060000
END:STANDARD
BEGIN:DAYLIGHT
TZOFFSETFROM:-0500
TZOFFSETTO:-0400
TZNAME:EDT
DTSTART:20230312T070000
END:DAYLIGHT
BEGIN:STANDARD
TZOFFSETFROM:-0400
TZOFFSETTO:-0500
TZNAME:EST
DTSTART:20231105T060000
END:STANDARD
BEGIN:DAYLIGHT
TZOFFSETFROM:-0500
TZOFFSETTO:-0400
TZNAME:EDT
DTSTART:20240310T070000
END:DAYLIGHT
BEGIN:STANDARD
TZOFFSETFROM:-0400
TZOFFSETTO:-0500
TZNAME:EST
DTSTART:20241103T060000
END:STANDARD
END:VTIMEZONE
BEGIN:VEVENT
DTSTART;TZID=America/New_York:20231116T190000
DTEND;TZID=America/New_York:20231116T203000
DTSTAMP:20260422T023415
CREATED:20231021T151104Z
LAST-MODIFIED:20231028T165343Z
UID:3658-1700161200-1700166600@railtest.marketaccess.ca
SUMMARY:Online Lecture: Laying the Tracks to Victory
DESCRIPTION:Join us for “Laying the Tracks to Victory: Sergeant Biggs and the Canadian Railway Troops of the First World War\,” an online lecture on November 16th! \n  \nDid you know that Canada during the 1910s had the best and most experienced trainmen in the world? These Canadian railway professionals were recruited to build & maintain thousands of kilometers of tracks on the Western Front – their great contribution is rarely discussed and is certainly a neglected part of history.  \nLearn about the Canadian Railway Troops of WWI that enabled the Allies to win the war with Ryan Goldsworthy of the Royal Canadian Military Institute. This lecture will be illuminated by several original artifacts related to the Canadian Railway Troops of 1914-1919\, including the rare medal set and uniform of Canadian Sergeant William Thomas Biggs. \n  \nGET TICKETS HERE \n  \nABOUT RYAN GOLDSWORTHY \nRyan Goldsworthy is a military historian and material history expert from Toronto. He is currently the Museum Director & Curator at the Royal Canadian Military Institute (RCMI). At RCMI\, he has amassed the most diverse and complete collection of Canadian First World War uniforms. He was formerly an Educator and a First World War historian at The Military Museums of Calgary (TMM). He has served on several museum committees and boards of directors. \n  \nABOUT THE TORONTO RAILWAY MUSEUM (TRM) \nThe Toronto Railway Museum (TRM) brings people together by telling stories of Toronto’s railway heritage. The Museum is located in the heart of downtown Toronto and is typically open year-round. TRM presents exhibits\, tours\, educational programs and publications that broaden the understanding and appreciation of Toronto’s rich railway history. TRM is committed to telling the stories of the railways\, and welcoming conversations of its varied experiences through its lecture series\, exhibits and integrated programming with a mission to learn from the past to make the future better.
URL:https://railtest.marketaccess.ca/event/online-lecture-canadian-railway-troops-in-wwi/
ATTACH;FMTTYPE=image/png:https://railtest.marketaccess.ca/wp-content/uploads/2023/10/7.TRM-website-event-banner-1200-x-500px.png
END:VEVENT
END:VCALENDAR