BEGIN:VCALENDAR
VERSION:2.0
PRODID:-//Toronto Railway Museum - ECPv6.15.20//NONSGML v1.0//EN
CALSCALE:GREGORIAN
METHOD:PUBLISH
X-WR-CALNAME:Toronto Railway Museum
X-ORIGINAL-URL:https://railtest.marketaccess.ca
X-WR-CALDESC:Events for Toronto Railway Museum
REFRESH-INTERVAL;VALUE=DURATION:PT1H
X-Robots-Tag:noindex
X-PUBLISHED-TTL:PT1H
BEGIN:VTIMEZONE
TZID:America/New_York
BEGIN:DAYLIGHT
TZOFFSETFROM:-0500
TZOFFSETTO:-0400
TZNAME:EDT
DTSTART:20220313T070000
END:DAYLIGHT
BEGIN:STANDARD
TZOFFSETFROM:-0400
TZOFFSETTO:-0500
TZNAME:EST
DTSTART:20221106T060000
END:STANDARD
BEGIN:DAYLIGHT
TZOFFSETFROM:-0500
TZOFFSETTO:-0400
TZNAME:EDT
DTSTART:20230312T070000
END:DAYLIGHT
BEGIN:STANDARD
TZOFFSETFROM:-0400
TZOFFSETTO:-0500
TZNAME:EST
DTSTART:20231105T060000
END:STANDARD
BEGIN:DAYLIGHT
TZOFFSETFROM:-0500
TZOFFSETTO:-0400
TZNAME:EDT
DTSTART:20240310T070000
END:DAYLIGHT
BEGIN:STANDARD
TZOFFSETFROM:-0400
TZOFFSETTO:-0500
TZNAME:EST
DTSTART:20241103T060000
END:STANDARD
END:VTIMEZONE
BEGIN:VEVENT
DTSTART;TZID=America/New_York:20231126T120000
DTEND;TZID=America/New_York:20231126T170000
DTSTAMP:20260422T023247
CREATED:20231021T151708Z
LAST-MODIFIED:20231124T163418Z
UID:3660-1701000000-1701018000@railtest.marketaccess.ca
SUMMARY:Museum Store Sunday 2023
DESCRIPTION:Join us on Sunday\, November 26 to shop the museum store and save! Museum Store Sunday is here and with it amazing deals. Visit the store to take part in some festive activities\, plus get ahead of your holiday shopping. \nWe will be kicking off our holiday season at the store with a selection of recommended gifts under $20\, including books\, toys\, hot chocolate\, and more! The first 50 Museum Store Sunday customers will receive a free stationery bundle! \nMuseum Store Sunday kicks off at 12:00pm on the Don Station platform and runs until 5:00pm.
URL:https://railtest.marketaccess.ca/event/museum-store-sunday-2023/
ATTACH;FMTTYPE=image/jpeg:https://railtest.marketaccess.ca/wp-content/uploads/2023/10/museum-store-sunday_event-banner.jpg
END:VEVENT
END:VCALENDAR