BEGIN:VCALENDAR
VERSION:2.0
PRODID:-//Toronto Railway Museum - ECPv6.15.20//NONSGML v1.0//EN
CALSCALE:GREGORIAN
METHOD:PUBLISH
X-ORIGINAL-URL:https://railtest.marketaccess.ca
X-WR-CALDESC:Events for Toronto Railway Museum
REFRESH-INTERVAL;VALUE=DURATION:PT1H
X-Robots-Tag:noindex
X-PUBLISHED-TTL:PT1H
BEGIN:VTIMEZONE
TZID:America/New_York
BEGIN:DAYLIGHT
TZOFFSETFROM:-0500
TZOFFSETTO:-0400
TZNAME:EDT
DTSTART:20240310T070000
END:DAYLIGHT
BEGIN:STANDARD
TZOFFSETFROM:-0400
TZOFFSETTO:-0500
TZNAME:EST
DTSTART:20241103T060000
END:STANDARD
BEGIN:DAYLIGHT
TZOFFSETFROM:-0500
TZOFFSETTO:-0400
TZNAME:EDT
DTSTART:20250309T070000
END:DAYLIGHT
BEGIN:STANDARD
TZOFFSETFROM:-0400
TZOFFSETTO:-0500
TZNAME:EST
DTSTART:20251102T060000
END:STANDARD
BEGIN:DAYLIGHT
TZOFFSETFROM:-0500
TZOFFSETTO:-0400
TZNAME:EDT
DTSTART:20260308T070000
END:DAYLIGHT
BEGIN:STANDARD
TZOFFSETFROM:-0400
TZOFFSETTO:-0500
TZNAME:EST
DTSTART:20261101T060000
END:STANDARD
END:VTIMEZONE
BEGIN:VEVENT
DTSTART;TZID=America/New_York:20250420T143000
DTEND;TZID=America/New_York:20250420T153000
DTSTAMP:20260420T223739
CREATED:20250320T142253Z
LAST-MODIFIED:20250320T142253Z
UID:4413-1745159400-1745163000@railtest.marketaccess.ca
SUMMARY:Easter Chocolate Tasting
DESCRIPTION:Hop into a vintage train car and embark on a one-of-a-kind Easter chocolate tasting adventure. Let the charm of this historic train setting transport you through the world of artisanal Canadian craft chocolate with our Easter Chocolate Express. With the guidance of a chocolate tasting expert\, you will discover the origins of chocolate and its journey through history before indulging in a curated flight of craft chocolates and learn how to taste like a true connoisseur. Best of all\, take home your own chocolate tasting kit to relive the experience and make many more memories as sweet as chocolate. \nFeatures \n\n1 chocolate tasting kit per 2 people featuring\n\n4 full-size bars of artisan chocolates made by local Canadian craft chocolate-makers (dark and milk)\nHigh quality raw cacao from a premium cacao supplier\nReusable chocolate tasting mat and flavour wheel\nAll packaged in a lovely gift box perfect to take home\n\n\nGuided tasting on the history\, making and tasting of chocolate – learn how the experts taste chocolate!\nBe part of a unique chocolate tasting experience inside a vintage railway car.\nComplimentary access to the Toronto Railway Museum after the tasting\n\nDietary Restrictions\nThe tasting is vegetarian\, gluten-free and nut-free\, but is not dairy-free due to the milk powder in milk chocolates. Please mention any dietary restrictions in the ‘Dietary restrictions’ field when booking a tour. \nLocation\nToronto Railway Museum\n(accessibility note: some stairs required to access railway car) \nEvent Dates\nApril 19 (Sat)\, 2.30 – 3.30pm\nApril 20 (Sun)\, 2.30 – 3.30pm \nPrice\n$55 per person (tickets sold in pairs)\nKits are sized for 2 people\, so if you have an odd number of people\, invite a friend and gain yourself some (chocolate) brownie points! \nVisit https://tastytourstoronto.com/easter-sweets-chocolate-tours/ to purchase tickets. 
URL:https://railtest.marketaccess.ca/event/easter-chocolate-tasting/
LOCATION:Toronto Railway Museum\, 255 Bremner Blvd\, Stall 17\, Toronto\, Ontario\, M5V 3M9\, Canada
ATTACH;FMTTYPE=image/jpeg:https://railtest.marketaccess.ca/wp-content/uploads/2025/03/2c8bfdc6-377e-41cb-b5ff-8433b07d898b.jpg
END:VEVENT
END:VCALENDAR