BEGIN:VCALENDAR
VERSION:2.0
PRODID:-//Toronto Railway Museum - ECPv6.15.20//NONSGML v1.0//EN
CALSCALE:GREGORIAN
METHOD:PUBLISH
X-ORIGINAL-URL:https://railtest.marketaccess.ca
X-WR-CALDESC:Events for Toronto Railway Museum
REFRESH-INTERVAL;VALUE=DURATION:PT1H
X-Robots-Tag:noindex
X-PUBLISHED-TTL:PT1H
BEGIN:VTIMEZONE
TZID:America/New_York
BEGIN:DAYLIGHT
TZOFFSETFROM:-0500
TZOFFSETTO:-0400
TZNAME:EDT
DTSTART:20240310T070000
END:DAYLIGHT
BEGIN:STANDARD
TZOFFSETFROM:-0400
TZOFFSETTO:-0500
TZNAME:EST
DTSTART:20241103T060000
END:STANDARD
BEGIN:DAYLIGHT
TZOFFSETFROM:-0500
TZOFFSETTO:-0400
TZNAME:EDT
DTSTART:20250309T070000
END:DAYLIGHT
BEGIN:STANDARD
TZOFFSETFROM:-0400
TZOFFSETTO:-0500
TZNAME:EST
DTSTART:20251102T060000
END:STANDARD
BEGIN:DAYLIGHT
TZOFFSETFROM:-0500
TZOFFSETTO:-0400
TZNAME:EDT
DTSTART:20260308T070000
END:DAYLIGHT
BEGIN:STANDARD
TZOFFSETFROM:-0400
TZOFFSETTO:-0500
TZNAME:EST
DTSTART:20261101T060000
END:STANDARD
END:VTIMEZONE
BEGIN:VEVENT
DTSTART;TZID=America/New_York:20250510T143000
DTEND;TZID=America/New_York:20250510T153000
DTSTAMP:20260420T205433
CREATED:20250505T001923Z
LAST-MODIFIED:20250505T001952Z
UID:4432-1746887400-1746891000@railtest.marketaccess.ca
SUMMARY:Mother's Day Chocolate Tasting
DESCRIPTION:Make this Mother’s Day extra special by boarding our Mother’s Day Chocolate Express\, a one-of-a-kind tasting experience in a charming vintage train car. Let the historic ambiance transport Mom into the world of artisanal Canadian craft chocolate\, where she’ll be guided by a chocolate expert through the captivating stories and flavours of chocolate. To top it off\, she’ll take home her kit of tasting tools and surplus chocolate so she can recreate the experience and make even more sweet memories. \nNote that this event focuses on the darker spectrum of chocolate and is best for those who appreciate quality dark chocolate or are open to broadening their horizons beyond the standard supermarket brands like Lindt and Nestle! \nFeatures \n\n1 chocolate tasting kit per 2 people featuring\n\n4 full-size bars of artisan chocolates made by local Canadian craft chocolate-makers (dark and milk)\nHigh quality raw cacao from a premium cacao supplier\nReusable chocolate tasting mat and flavour wheel\nAll packaged in a lovely gift box perfect to take home\n\n\nGuided tasting on the history\, making and tasting of chocolate – learn how the experts taste chocolate!\nBe part of a unique chocolate tasting experience inside a vintage railway car.\nComplimentary access to the Toronto Railway Museum after the tasting\n\nDietary Restrictions\nThe tasting is vegetarian\, gluten-free and nut-free\, but is not dairy-free due to the milk powder in milk chocolates. Please mention any dietary restrictions in the ‘Dietary restrictions’ field when booking a tour. \nLocation\nToronto Railway Museum\n(accessibility note: some stairs required to access railway car) \nEvent Dates\nMay 10 (Sat)\, 2.30 – 3.30pm\nMay 11 (Sun)\, 2.30 – 3.30pm \nPrice\n$55 per person (tickets sold in pairs)\nKits are sized for 2 people\, so if you have an odd number of people\, invite a friend and gain yourself some (chocolate) brownie points!
URL:https://railtest.marketaccess.ca/event/mothers-day-chocolate-tastings/
LOCATION:Toronto Railway Museum\, 255 Bremner Blvd\, Stall 17\, Toronto\, Ontario\, M5V 3M9\, Canada
ATTACH;FMTTYPE=image/jpeg:https://railtest.marketaccess.ca/wp-content/uploads/2025/03/1dad8c81-e6c9-4e1c-a072-8c226ee23a03.jpg
END:VEVENT
END:VCALENDAR