BEGIN:VCALENDAR
VERSION:2.0
PRODID:-//Toronto Railway Museum - ECPv6.15.20//NONSGML v1.0//EN
CALSCALE:GREGORIAN
METHOD:PUBLISH
X-WR-CALNAME:Toronto Railway Museum
X-ORIGINAL-URL:https://railtest.marketaccess.ca
X-WR-CALDESC:Events for Toronto Railway Museum
REFRESH-INTERVAL;VALUE=DURATION:PT1H
X-Robots-Tag:noindex
X-PUBLISHED-TTL:PT1H
BEGIN:VTIMEZONE
TZID:America/New_York
BEGIN:DAYLIGHT
TZOFFSETFROM:-0500
TZOFFSETTO:-0400
TZNAME:EDT
DTSTART:20250309T070000
END:DAYLIGHT
BEGIN:STANDARD
TZOFFSETFROM:-0400
TZOFFSETTO:-0500
TZNAME:EST
DTSTART:20251102T060000
END:STANDARD
BEGIN:DAYLIGHT
TZOFFSETFROM:-0500
TZOFFSETTO:-0400
TZNAME:EDT
DTSTART:20260308T070000
END:DAYLIGHT
BEGIN:STANDARD
TZOFFSETFROM:-0400
TZOFFSETTO:-0500
TZNAME:EST
DTSTART:20261101T060000
END:STANDARD
BEGIN:DAYLIGHT
TZOFFSETFROM:-0500
TZOFFSETTO:-0400
TZNAME:EDT
DTSTART:20270314T070000
END:DAYLIGHT
BEGIN:STANDARD
TZOFFSETFROM:-0400
TZOFFSETTO:-0500
TZNAME:EST
DTSTART:20271107T060000
END:STANDARD
END:VTIMEZONE
BEGIN:VEVENT
DTSTART;TZID=America/New_York:20260113T190000
DTEND;TZID=America/New_York:20260113T200000
DTSTAMP:20260420T062531
CREATED:20251125T153227Z
LAST-MODIFIED:20251206T154800Z
UID:4708-1768330800-1768334400@railtest.marketaccess.ca
SUMMARY:Second Tuesday Zoom Talk: Royal Tours and Rail Journeys in the life and reign of King Charles III
DESCRIPTION:Royal Tours and Rail Journeys in the life and reign of King Charles III \nIn November 2025\, King Charles III celebrated his 77th birthday by driving a tram-train in Wales while opening a new rail depot. The reign of King Charles III\, however\, has also seen the decommissioning of the royal train in the United Kingdom. Join Dr. Carolyn Harris as will discuss the changing role of trains in the life and reign of King Charles III over the course of decades of royal tours. \nRegister for Royal Tours and Rail Journeys \nAbout our speaker: \nDr. Carolyn Harris received her PhD in history from Queen’s University in Kingston and is an instructor at the University of Toronto School of Continuing Studies\, receiving the teaching award in 2016 and 2021. She is the author of three books\, Magna Carta and Its Gifts to Canada (Dundurn 2015)\, Queenship and Revolution in Early Modern Europe: Henrietta Maria and Marie Antoinette (Palgrave 2016\, recipient of the 2016 Royal Studies Journal book award) and Raising Royalty: 1000 Years of Royal Parenting (Dundurn 2017) and the co-editor of the English Consorts: Power\, Influence and Dynasty series (2022-2023). Her writing concerning history and royalty has appeared in numerous publications including Reader’s Digest\, Smithsonian Magazine and BBC History Magazine. She frequently provides royal commentary for the media including CBC News and the BBC. \nAbout the series: \nThe Toronto Railway Museum hosts guest speakers online via the Zoom Webinar platform the Second Tuesday of each month. These talks are free and open to the public\, with a suggested donation of $10 to support future programming. The Toronto Railway is a registered Canadian charity (838626943RR0001) and charitable tax receipts will be issued for donations over $25.
URL:https://railtest.marketaccess.ca/event/second-tuesday-zoom-talk-royal-tours-and-rail-journeys-in-the-life-and-reign-of-king-charles-iii/
CATEGORIES:Second-Tuesday-Talk
ATTACH;FMTTYPE=image/png:https://railtest.marketaccess.ca/wp-content/uploads/2025/11/Version_04.png
END:VEVENT
END:VCALENDAR