BEGIN:VCALENDAR
VERSION:2.0
PRODID:-//Toronto Railway Museum - ECPv6.15.20//NONSGML v1.0//EN
CALSCALE:GREGORIAN
METHOD:PUBLISH
X-ORIGINAL-URL:https://railtest.marketaccess.ca
X-WR-CALDESC:Events for Toronto Railway Museum
REFRESH-INTERVAL;VALUE=DURATION:PT1H
X-Robots-Tag:noindex
X-PUBLISHED-TTL:PT1H
BEGIN:VTIMEZONE
TZID:America/New_York
BEGIN:DAYLIGHT
TZOFFSETFROM:-0500
TZOFFSETTO:-0400
TZNAME:EDT
DTSTART:20240310T070000
END:DAYLIGHT
BEGIN:STANDARD
TZOFFSETFROM:-0400
TZOFFSETTO:-0500
TZNAME:EST
DTSTART:20241103T060000
END:STANDARD
BEGIN:DAYLIGHT
TZOFFSETFROM:-0500
TZOFFSETTO:-0400
TZNAME:EDT
DTSTART:20250309T070000
END:DAYLIGHT
BEGIN:STANDARD
TZOFFSETFROM:-0400
TZOFFSETTO:-0500
TZNAME:EST
DTSTART:20251102T060000
END:STANDARD
BEGIN:DAYLIGHT
TZOFFSETFROM:-0500
TZOFFSETTO:-0400
TZNAME:EDT
DTSTART:20260308T070000
END:DAYLIGHT
BEGIN:STANDARD
TZOFFSETFROM:-0400
TZOFFSETTO:-0500
TZNAME:EST
DTSTART:20261101T060000
END:STANDARD
END:VTIMEZONE
BEGIN:VEVENT
DTSTART;TZID=America/New_York:20251014T190000
DTEND;TZID=America/New_York:20251014T200000
DTSTAMP:20260420T115344
CREATED:20250929T203729Z
LAST-MODIFIED:20260107T224635Z
UID:4515-1760468400-1760472000@railtest.marketaccess.ca
SUMMARY:Second Tuesday Zoom Talk: How Rail Industry Knowledge Informs Heritage Preservation
DESCRIPTION:Second Tuesday Zoom Talk: How Rail Industry Knowledge Informs Heritage Preservation \nHistoric locomotives and railcars can be mysterious and challenging objects\, but there are similarities between the 19th and 21st century rail industry that provide historians context for preservation. Join Chris Fox for a lively discussion of his experience in maintaining heritage rolling stock using his industry knowledge that he’s compiled throughout his rail career.  \nAbout our speaker: \nChristopher Fox is an experienced and widely respected professional in the rail industry with a career spanning 30 years. He worked as a railway mechanic for Bombardier and GO Transit for over 10 years\, before moving on to the operating trades at GO Transit for the past 15 years. \nHe also works with the VIA Historical Association and the Halton County Radial Railway\, where he has helped to maintain and restore various heritage cars and locomotives including the VIA 6917 (owned by the TRHA). \nHe enjoys anything mechanical. When he’s not working on trains or engines\, he enjoys fishing\, snowmobiling\, and spending time with his children. \nAbout the series: \nThe Toronto Railway Museum hosts guest speakers online via the Zoom Webinar platform the Second Tuesday of each month. These talks are free and open to the public\, with a suggested donation of $10 to support future programming. The Toronto Railway is a registered Canadian charity (838626943RR0001) and charitable tax receipts will be issued for donations over $25. 
URL:https://railtest.marketaccess.ca/event/oct2025talk/
CATEGORIES:Second-Tuesday-Talk
ATTACH;FMTTYPE=image/png:https://railtest.marketaccess.ca/wp-content/uploads/2025/09/Version_04-2.png
END:VEVENT
END:VCALENDAR