BEGIN:VCALENDAR
VERSION:2.0
PRODID:-//Toronto Railway Museum - ECPv6.15.20//NONSGML v1.0//EN
CALSCALE:GREGORIAN
METHOD:PUBLISH
X-WR-CALNAME:Toronto Railway Museum
X-ORIGINAL-URL:https://railtest.marketaccess.ca
X-WR-CALDESC:Events for Toronto Railway Museum
REFRESH-INTERVAL;VALUE=DURATION:PT1H
X-Robots-Tag:noindex
X-PUBLISHED-TTL:PT1H
BEGIN:VTIMEZONE
TZID:America/New_York
BEGIN:DAYLIGHT
TZOFFSETFROM:-0500
TZOFFSETTO:-0400
TZNAME:EDT
DTSTART:20190310T070000
END:DAYLIGHT
BEGIN:STANDARD
TZOFFSETFROM:-0400
TZOFFSETTO:-0500
TZNAME:EST
DTSTART:20191103T060000
END:STANDARD
BEGIN:DAYLIGHT
TZOFFSETFROM:-0500
TZOFFSETTO:-0400
TZNAME:EDT
DTSTART:20200308T070000
END:DAYLIGHT
BEGIN:STANDARD
TZOFFSETFROM:-0400
TZOFFSETTO:-0500
TZNAME:EST
DTSTART:20201101T060000
END:STANDARD
BEGIN:DAYLIGHT
TZOFFSETFROM:-0500
TZOFFSETTO:-0400
TZNAME:EDT
DTSTART:20210314T070000
END:DAYLIGHT
BEGIN:STANDARD
TZOFFSETFROM:-0400
TZOFFSETTO:-0500
TZNAME:EST
DTSTART:20211107T060000
END:STANDARD
END:VTIMEZONE
BEGIN:VEVENT
DTSTART;TZID=America/New_York:20200806T200000
DTEND;TZID=America/New_York:20200806T213000
DTSTAMP:20260421T111911
CREATED:20200803T232923Z
LAST-MODIFIED:20200803T233242Z
UID:85-1596744000-1596749400@railtest.marketaccess.ca
SUMMARY:Online Lecture Steam Locomotives of John St\, Part 2
DESCRIPTION:See what went on inside the historic John Street Roundhouse from the comfort of your home at our next online lecture!\n\n\n\n\n\n\nAbout this online lecture\n\n\nToronto Railway Museum historian Derek Boles will continue with his online lecture on the Canadian Pacific Railway’s steam locomotives at Toronto’s John Street Roundhouse. Part two of this mini-series will deal with some of the railway’s most iconic engines\, including the 4-8-4 Northerns\, the 4-6-4 Hudsons and Royal Hudsons\, and the 4-4-4 Jubilees. Also included are the more utilitarian yard engines as well as foreign motive power of the New York Central and Toronto\, Hamilton & Buffalo. \n  \nThe lecture will be presented digitally through the WebEx platform in one evening and divided into two sections with a short break in the middle. Once you register for this lecture\, please review the Order Confirmation that you will receive from Eventbrite. It contains all of the relevant information needed to access our online event. \n  \nDon’t forget to register and reserve your space! Please note that lecture capacity is limited due to the hosting platform used. \n  \nDon’t forget to register and reserve your space! Please note that online lecture capacity is limited due to the hosting platform used.  \n  \nCover Image: David A. Oram\, “A John St. Morning” \n  \nABOUT DEREK BOLES: \n  \nDerek Boles is the chief historian of the Toronto Railway Museum and a founding member of the Toronto Railway Historical Association. He has authored several articles and a book on Toronto’s railway history and led many popular railway-themed walks for Heritage Toronto\, for which he was a board member for seven years. From 2006 to 2012\, he provided monthly tours of Union Station and hosted the annual Doors Open event at that venue. In 2015\, Derek was the recipient of the Canadian Railroad Historical Association’s Lifetime Achievement Award. \n  \nPurchase tickets on Eventbrite.
URL:https://railtest.marketaccess.ca/event/online-lecture-steam-locomotives-of-john-st-part-2/
ATTACH;FMTTYPE=image/jpeg:https://railtest.marketaccess.ca/wp-content/uploads/2020/08/Steam-Locomotives-of-John-Street-pt-2-header.jpg
END:VEVENT
END:VCALENDAR