BEGIN:VCALENDAR
VERSION:2.0
PRODID:-//Toronto Railway Museum - ECPv6.15.20//NONSGML v1.0//EN
CALSCALE:GREGORIAN
METHOD:PUBLISH
X-WR-CALNAME:Toronto Railway Museum
X-ORIGINAL-URL:https://railtest.marketaccess.ca
X-WR-CALDESC:Events for Toronto Railway Museum
REFRESH-INTERVAL;VALUE=DURATION:PT1H
X-Robots-Tag:noindex
X-PUBLISHED-TTL:PT1H
BEGIN:VTIMEZONE
TZID:UTC
BEGIN:STANDARD
TZOFFSETFROM:+0000
TZOFFSETTO:+0000
TZNAME:UTC
DTSTART:20190101T000000
END:STANDARD
END:VTIMEZONE
BEGIN:VEVENT
DTSTART;TZID=UTC:20201001T200000
DTEND;TZID=UTC:20201001T213000
DTSTAMP:20260424T123958
CREATED:20200919T005005Z
LAST-MODIFIED:20200919T005313Z
UID:402-1601582400-1601587800@railtest.marketaccess.ca
SUMMARY:Online Lecture: Toronto Union Stations
DESCRIPTION:Join us for the final lecture in our 10th anniversary series\, Toronto Union Stations 1927-2020!\n\n\n\n\n\n\nAbout Toronto Union Stations\, 1927-2020\n\n\nAfter almost 25 years of planning and construction\, Toronto’s fourth Union Station opened to great fanfare in August 1927 with a visit by the Prince of Wales\, later King Edward VIII. Over the following decades\, the station would witness the Depression\, World War II\, the railway’s transition from steam to diesel motive power\, the decline of intercity and long-distance passenger trains\, the near demolition of the building in the 1960s\, and the repurposing of the station as commuter hub. After Union Station was acquired by the City of Toronto in the 21st century\, a renovation and restoration process began that would take almost as long as its initial construction a century earlier. An extensive array of photographs\, maps\, diagrams and animations will illustrate the history of this National Historic Site. \nThe lecture will be presented digitally through the WebEx platform in one evening and divided into two sections with a short break in the middle. Once you register for this lecture\, please review the Order Confirmation that you will receive from Eventbrite. It contains all of the relevant information needed to access our online event. \nDon’t forget to register and reserve your space! Please note that lecture capacity is limited due to the hosting platform used. \n\n\n\n\n\n\n\n\n\n\n\n\n\nTickets for our Online Lecture\, Toronto Union Stations 1927-2020\, now available on Eventbrite. \nABOUT DEREK BOLES:\nDerek Boles is the chief historian of the Toronto Railway Museum and a founding member of the Toronto Railway Historical Association. He wrote several articles and a book on Toronto’s railway history and led many popular railway-themed walks for Heritage Toronto\, where he served as a board member for seven years and consulted and researched several railway historic plaques installed throughout the city\, many of them commemorating the city’s railway history. From 2006 to 2012\, he led monthly tours of Union Station and hosted the annual Doors Open event at that venue. In 2015\, Derek received the Canadian Railroad Historical Association’s Lifetime Achievement Award. \nBe sure to check out the rest of our virtual offerings on the TRM from Home page.
URL:https://railtest.marketaccess.ca/event/online-lecture-toronto-union-stations/
ATTACH;FMTTYPE=image/jpeg:https://railtest.marketaccess.ca/wp-content/uploads/2020/09/https___cdn.evbuc_.com_images_111965189_289255579055_1_original.jpg
END:VEVENT
BEGIN:VEVENT
DTSTART;VALUE=DATE:20201014
DTEND;VALUE=DATE:20201015
DTSTAMP:20260424T123958
CREATED:20201012T014534Z
LAST-MODIFIED:20201012T014534Z
UID:449-1602633600-1602719999@railtest.marketaccess.ca
SUMMARY:Museum closed
DESCRIPTION:The Toronto Railway Museum is closed on Wednesday\, October 14th in lieu of Thanksgiving. We will reopen on Thursday\, October 15th.
URL:https://railtest.marketaccess.ca/event/museum-closed-2/
LOCATION:Toronto Railway Museum\, 255 Bremner Blvd\, Stall 17\, Toronto\, Ontario\, M5V 3M9\, Canada
END:VEVENT
BEGIN:VEVENT
DTSTART;VALUE=DATE:20201018
DTEND;VALUE=DATE:20201019
DTSTAMP:20260424T123958
CREATED:20201011T202717Z
LAST-MODIFIED:20201011T202717Z
UID:440-1602979200-1603065599@railtest.marketaccess.ca
SUMMARY:The Cattle Car: Stepping In and Out of Darkness
DESCRIPTION:The Toronto Railway Museum is proud to partner with ShadowLight to present this exhibit in Roundhouse Park. \nPlease join ShadowLight as we officially unveil the Cattle Car: Stepping In and Out of Darkness to the public! ShadowLight has been working extremely hard to bring you this immersive\, 360 degree exhibit and the time has finally come! We will be having both an online event\, where you can watch with your family as well as the opportunity to tour the Cattle Car in person!
URL:https://railtest.marketaccess.ca/event/the-cattle-car-stepping-in-and-out-of-darkness/
LOCATION:Roundhouse Park\, 255 Bremner Blvd\, Toronto\, Ontario\, m5v3m9\, Canada
ATTACH;FMTTYPE=image/jpeg:https://railtest.marketaccess.ca/wp-content/uploads/2020/10/120926703_2799032450368410_4399515008086644041_o.jpg
END:VEVENT
END:VCALENDAR