BEGIN:VCALENDAR
VERSION:2.0
PRODID:-//Toronto Railway Museum - ECPv6.15.20//NONSGML v1.0//EN
CALSCALE:GREGORIAN
METHOD:PUBLISH
X-WR-CALNAME:Toronto Railway Museum
X-ORIGINAL-URL:https://railtest.marketaccess.ca
X-WR-CALDESC:Events for Toronto Railway Museum
REFRESH-INTERVAL;VALUE=DURATION:PT1H
X-Robots-Tag:noindex
X-PUBLISHED-TTL:PT1H
BEGIN:VTIMEZONE
TZID:America/New_York
BEGIN:DAYLIGHT
TZOFFSETFROM:-0500
TZOFFSETTO:-0400
TZNAME:EDT
DTSTART:20200308T070000
END:DAYLIGHT
BEGIN:STANDARD
TZOFFSETFROM:-0400
TZOFFSETTO:-0500
TZNAME:EST
DTSTART:20201101T060000
END:STANDARD
BEGIN:DAYLIGHT
TZOFFSETFROM:-0500
TZOFFSETTO:-0400
TZNAME:EDT
DTSTART:20210314T070000
END:DAYLIGHT
BEGIN:STANDARD
TZOFFSETFROM:-0400
TZOFFSETTO:-0500
TZNAME:EST
DTSTART:20211107T060000
END:STANDARD
BEGIN:DAYLIGHT
TZOFFSETFROM:-0500
TZOFFSETTO:-0400
TZNAME:EDT
DTSTART:20220313T070000
END:DAYLIGHT
BEGIN:STANDARD
TZOFFSETFROM:-0400
TZOFFSETTO:-0500
TZNAME:EST
DTSTART:20221106T060000
END:STANDARD
END:VTIMEZONE
BEGIN:VEVENT
DTSTART;VALUE=DATE:20210508
DTEND;VALUE=DATE:20210509
DTSTAMP:20260424T013450
CREATED:20210429T201006Z
LAST-MODIFIED:20210429T201006Z
UID:933-1620432000-1620518399@railtest.marketaccess.ca
SUMMARY:National Train Day with the TRM
DESCRIPTION:Celebrate National Train Day with the Toronto Railway Museum! \nWhile the museum is closed\, we’re happy to celebrate National Train Day with our at home activities. \nFirstly\, test your Toronto railway knowledge with an online crossword puzzle inspired by the city’s first railway\, the Ontario\, Simcoe & Huron! You can play online or print out and enjoy! \nNext\, have you ever seen a pink locomotive? Our TRM colouring pages let you colour the Toronto Railway Museum’s collection the way you want! Download them here. \nYou can find the rest of our Toronto Railway Museum from Home activities here. \nBe sure to join us at our next virtual lecture\, The Ties That Bind\, on May 13th. Tickets available now.
URL:https://railtest.marketaccess.ca/event/national-train-day-with-the-trm/
ATTACH;FMTTYPE=image/jpeg:https://railtest.marketaccess.ca/wp-content/uploads/2021/04/20200321-Rabiah-GO-1.jpg
END:VEVENT
BEGIN:VEVENT
DTSTART;TZID=America/New_York:20210513T190000
DTEND;TZID=America/New_York:20210513T203000
DTSTAMP:20260424T013450
CREATED:20210414T191155Z
LAST-MODIFIED:20210429T194633Z
UID:910-1620932400-1620937800@railtest.marketaccess.ca
SUMMARY:The Ties That Bind: Virtual Screening and Q&A
DESCRIPTION:With the Foundation to Commemorate the Chinese Railroad Workers in Canada (FCCRWC)\, we’re proud to present the next event in our 2021 lecture series!\nJoin us on May 13 for a screening of the FCCRWC’s film\, The Ties that Bind with a post-show Q&A with a representative from the Foundation and Toronto Railway Museum historians. The Ties That Bind preserves a seldom told part of Canada’s history and we are pleased to present the film as we celebrate Asian Heritage Month in May.  \nAbout The Ties That Bind\nBetween 1881 and 1885\, over 17\,000 Chinese men came to Canada to work as labourers on the construction of the western section of the transcontinental railroad. Today\, many Chinese Canadians are direct descendants of these men. The Ties That Bind: Building the CPR\, Building a Place in Canada tells their story\, and how their forebears contributed to nation building. \nThe famous “Last Spike” photograph tells only one part of the story. The people looking at the camera are white. Not one Chinese man is present. In this final moment\, the story of the Chinese railway worker – their labour\, sacrifice\, and struggles –  is omitted from the historical record. \nThe Ties That Bind examines the struggle of the Chinese Canadian community to establish an identity and roots in Canada. Through archival evidence and research about the men who came from China to build the transcontinental railway in the 1880s\, and the use of oral testimony of their descendants\, The Ties That Bind preserves a seldom told part of Canada’s history. \nAbout the Foundation to Commemorate the Chinese Railroad Workers in Canada (FCCRWC)\nThe Foundation to Commemorate the Chinese Railroad Workers in Canada (FCCRWC) is a registered charitable organization. The goals of the foundation include promoting the understanding and awareness of the contribution to Canada by the Chinese Railroad Workers who participated in the construction of the first transcontinental railway (the CPR) that united Canada geographically and politically; promoting the awareness of the government’s legislation of unjust Immigration Acts against the Chinese pioneers and their families; establishing scholarships; and sponsoring other Canadian charitable organizations to promote Chinese Canadian History.  \nEmail:                        fccrwc@gmail.com \nWebsite:                    https://www.mhso.ca/tiesthatbind/ \nFacebook:                 https://www.facebook.com/FCCRWC/ (@FCCRWC) \nTwitter:                      https://twitter.com/ChineseRailroad (@ChineseRailroad) \nAbout the Toronto Railway Museum (TRM)\nThe Toronto Railway Museum (TRM) brings people together by telling stories of Toronto’s railway heritage. The Museum is located in the heart of downtown Toronto and is typically open year-round. TRM presents exhibits\, tours\, educational programs and publications that broaden the understanding and appreciation of Toronto’s rich railway history. TRM is committed to telling the stories of the railways\, and welcoming conversations of its varied experiences through its lecture series\, exhibits and integrated programming with a mission to learn from the past to make the future better.  \nAll funds raised from ticket sales will go directly back into supporting TRM and FCCRWC programming. Thank you!\nTickets available on Eventbrite.
URL:https://railtest.marketaccess.ca/event/the-ties-that-bind-virtual-screening-and-qa/
ATTACH;FMTTYPE=image/png:https://railtest.marketaccess.ca/wp-content/uploads/2021/04/TRM-website-event-banner-ties-that-bind.png
END:VEVENT
BEGIN:VEVENT
DTSTART;VALUE=DATE:20210518
DTEND;VALUE=DATE:20210519
DTSTAMP:20260424T013450
CREATED:20210502T193808Z
LAST-MODIFIED:20210502T201831Z
UID:960-1621296000-1621382399@railtest.marketaccess.ca
SUMMARY:International Museum Day with TRM
DESCRIPTION:Celebrate International Museum Day with the Toronto Railway Museum! \nWhile the museum is closed\, we’re happy to celebrate International Museum Day with our at home activities. \nFirstly\, learn about our collection by exploring our audio guide! While you can use it at the museum\, you can also explore our audio guide from home. Feel free to follow along here. \nNext\, explore the Toronto Railway Historical Association (TRHA). The TRHA\, who operate the Toronto Railway Museum\, have many historical articles on their website. Dive in to explore more local history. Start with the TRHA Blog. \nYou can find the rest of our Toronto Railway Museum from Home activities here \nStill looking for more? Check out events around the world with ICOM’s interactive map.
URL:https://railtest.marketaccess.ca/event/international-museum-day-with-trm/
ATTACH;FMTTYPE=image/jpeg:https://railtest.marketaccess.ca/wp-content/uploads/2021/05/PXL_20201128_170513123.jpg
END:VEVENT
BEGIN:VEVENT
DTSTART;VALUE=DATE:20210529
DTEND;VALUE=DATE:20210531
DTSTAMP:20260424T013450
CREATED:20210502T195639Z
LAST-MODIFIED:20210519T184244Z
UID:967-1622246400-1622419199@railtest.marketaccess.ca
SUMMARY:Doors Open at the TRM
DESCRIPTION:Toronto Railway Museum participates in Doors Open celebrations every year. As we are not able to gather at the museum this year\, we decided to recognize the weekend with virtual activities. \nFirstly\, to get an inside look at the John Street Roundhouse\, the home of the Toronto Railway Museum\, check out the video below: \n \nSecondly\, on May 29th at 11 am\, join us on our Instagram. We’ll be hosting a special trivia contest. Learn more about our past Doors Open events and have a chance to win a gift card for The Rec Room! \nWe look forward to welcoming you back to the museum when it is safe to do so. Remember you can always access our TRM From Home activities. Thank you for celebrating Doors Open 2021 with us! \nBe sure to check out other Digital Doors Open activities happening this month.
URL:https://railtest.marketaccess.ca/event/doors-open-at-the-trm/
ATTACH;FMTTYPE=image/png:https://railtest.marketaccess.ca/wp-content/uploads/2021/05/white-wash-before-opening.png
END:VEVENT
END:VCALENDAR