BEGIN:VCALENDAR
VERSION:2.0
PRODID:-//Toronto Railway Museum - ECPv6.15.20//NONSGML v1.0//EN
CALSCALE:GREGORIAN
METHOD:PUBLISH
X-WR-CALNAME:Toronto Railway Museum
X-ORIGINAL-URL:https://railtest.marketaccess.ca
X-WR-CALDESC:Events for Toronto Railway Museum
REFRESH-INTERVAL;VALUE=DURATION:PT1H
X-Robots-Tag:noindex
X-PUBLISHED-TTL:PT1H
BEGIN:VTIMEZONE
TZID:America/New_York
BEGIN:DAYLIGHT
TZOFFSETFROM:-0500
TZOFFSETTO:-0400
TZNAME:EDT
DTSTART:20200308T070000
END:DAYLIGHT
BEGIN:STANDARD
TZOFFSETFROM:-0400
TZOFFSETTO:-0500
TZNAME:EST
DTSTART:20201101T060000
END:STANDARD
BEGIN:DAYLIGHT
TZOFFSETFROM:-0500
TZOFFSETTO:-0400
TZNAME:EDT
DTSTART:20210314T070000
END:DAYLIGHT
BEGIN:STANDARD
TZOFFSETFROM:-0400
TZOFFSETTO:-0500
TZNAME:EST
DTSTART:20211107T060000
END:STANDARD
BEGIN:DAYLIGHT
TZOFFSETFROM:-0500
TZOFFSETTO:-0400
TZNAME:EDT
DTSTART:20220313T070000
END:DAYLIGHT
BEGIN:STANDARD
TZOFFSETFROM:-0400
TZOFFSETTO:-0500
TZNAME:EST
DTSTART:20221106T060000
END:STANDARD
END:VTIMEZONE
BEGIN:VEVENT
DTSTART;TZID=America/New_York:20210710T120000
DTEND;TZID=America/New_York:20211010T170000
DTSTAMP:20260423T180611
CREATED:20210708T182107Z
LAST-MODIFIED:20210929T181809Z
UID:1249-1625918400-1633885200@railtest.marketaccess.ca
SUMMARY:Mini Train Weekends
DESCRIPTION:Mini Train season is coming to a close! Join us for two more weekends – October 2 and 3 and October 9 and 10. Sunday\, October 10 will be the last day to catch the Mini Train this year. We were thrilled to see the return of the train to our operations and are already counting down the days until next season.\nEach Miniature Train weekend trip will depart with limited riders to accommodate for physical distancing\, and face masks are mandatory on the platform and aboard the train. Mini Train tickets go on sale at 11:30am on Saturdays and Sundays for the day\, and should be purchased online here.  \nChildren under 14 years must be accompanied by an adult. Passengers must be seated – Sorry\, no babes in arms. \nAbove all\, we’re looking forward to bringing the Miniature Train back for the weekend! We ask for your patience as museum staff navigate these new challenges. \nThe Toronto Railway Museum is delighted to announce it has been awarded the #SafeTravels Stamp by the World Travel & Tourism Council for adopting health and hygiene global standardized protocols. The Safe Travels Stamp is an international symbol designed to allow travelers to recognize governments and companies around the world\, which have adopted health and hygiene\, standardized protocols.
URL:https://railtest.marketaccess.ca/event/mini-train-weekends/
ATTACH;FMTTYPE=image/png:https://railtest.marketaccess.ca/wp-content/uploads/2021/07/MINI-TRAIN-WEEKEND.png
END:VEVENT
BEGIN:VEVENT
DTSTART;TZID=America/New_York:20211011T080000
DTEND;TZID=America/New_York:20211013T170000
DTSTAMP:20260423T180611
CREATED:20210923T200318Z
LAST-MODIFIED:20210923T200318Z
UID:1604-1633939200-1634144400@railtest.marketaccess.ca
SUMMARY:Thanksgiving Hours
DESCRIPTION:Please note the Toronto Railway Museum’s Thanksgiving hours: \nThanksgiving Hours:\nSaturday\, October 9: Open 12:00-5:00pm \nSunday\, October 10: Open 12:00-5:00pm \n  \nMonday\, October 11: Closed \nTuesday\, October 12: Closed \nWednesday\, October 13: Closed \n  \nRegular hours resume on Thursday\, October 14 \n  \nStall 17 Museum\nThe museum space in Stall 17 is open to visitors on October 9 and 10\, and closed from October 11 to 13. Stop by to enjoy your favourite exhibits or browse our most popular gift shop items. The gift shop at Don Station remains closed. We are looking forward to welcoming you back to the museum! Masks are mandatory and museum capacity is limited. Please review our reopening announcement prior to your visit. Museum admission tickets should be pre-booked in advance. \n 
URL:https://railtest.marketaccess.ca/event/thanksgiving-hours/
ATTACH;FMTTYPE=image/jpeg:https://railtest.marketaccess.ca/wp-content/uploads/2021/09/Ej0X76oXYAUm39D.jpg
END:VEVENT
BEGIN:VEVENT
DTSTART;VALUE=DATE:20211015
DTEND;VALUE=DATE:20211016
DTSTAMP:20260423T180611
CREATED:20211008T191045Z
LAST-MODIFIED:20211008T191045Z
UID:1656-1634256000-1634342399@railtest.marketaccess.ca
SUMMARY:Roundhouse Trivia
DESCRIPTION:To celebrate the John Street Roundhouse’s 92 anniversary\, join us for a game of Roundhouse trivia through our Instagram stories. This trivia game will be virtual and held on Instagram. \nOn October 15\, 1929\, Canadian Pacific Railway’s John Street Roundhouse officially opened. How well do you know the Roundhouse? Find out on Friday\, October 15 at 11:00am (ET). Visit our Instagram page and get ready to play Roundhouse trivia on our Instagram stories!  \nWant to learn more about the John Street Roundhouse? Plan your visit to the museum\, or read more on our blog. \n  \nAn aerial view of the CPR John Street Roundhouse Complex in the mid-1970’s. Courtesy of the Helmut G. Osterman Collection.
URL:https://railtest.marketaccess.ca/event/roundhouse-trivia/
ATTACH;FMTTYPE=image/png:https://railtest.marketaccess.ca/wp-content/uploads/2021/10/Doors-open-twitter.png
END:VEVENT
BEGIN:VEVENT
DTSTART;TZID=America/New_York:20211020T200000
DTEND;TZID=America/New_York:20211020T213000
DTSTAMP:20260423T180611
CREATED:20210922T214037Z
LAST-MODIFIED:20211010T211651Z
UID:1595-1634760000-1634765400@railtest.marketaccess.ca
SUMMARY:Through the Window of a Train: Online Lecture
DESCRIPTION:Through the Window of a Train: Hilarious\, Hazardous\, and Historical Memories from the Steam Era\n  \nJoin us for our next online lecture\, “Through the Window of a Train”\, on October 20!\n  \nJoin us on Wednesday October 20 (8 pm EST/ 7 pm CST) for the next online lecture in our 2021 online series. If you’ve ever been curious about the lives of people on board a moving train\, or wanted to take a nostalgic trip back to the steam era\, then you won’t want to miss this presentation! \n  \nRelive hilarious\, hazardous\, historical\, and romantic moments as Barbara Lange reads a selection of short stories from Through the Window of a Train: A Canadian Railway Anthology (Borealis Press). Get a glimpse into the lives of railway workers\, railway families\, and train travelers from the bygone steam era when railways reigned supreme.  \n  \nFollowing the presentation\, attendees will have the opportunity to speak with the presenter and Toronto Railway Museum historians in a live Q&A session.  \n  \nTickets\nTickets are $15 (+HST and fees). Attendees will get access to our exclusive Zoom meeting room\, where they can engage directly with the presenter and museum historians in our post-lecture Q&A. Ticket holders will also receive 1 adult ticket to the Toronto Railway Museum (valid until 12/31/2022) and have a chance to win one of several prizes. Stay tuned for details. \n  \nAbout Barbara Lange\nBarbara Lange grew up in a railway family in England. Her father worked for British Railways. Train trips meant visits to relatives or friends\, discovering new destinations\, travelling to school\, or a way to reach her office job in London. Most treasured memories were annual family holidays by train to England’s beaches.  \n  \nAfter immigration to Canada\, her curiosity about life surrounding Canada’s railways piqued\, especially when she landed in Toronto in 1978 and stepped on board VIA’s flagship train The Canadian to complete her journey to Winnipeg. Train travel does not feature in daily life for most Winnipeggers as distances are too great. To help fill the void that she felt\, Barbara became a member of the Winnipeg Railway Museum and loved to breathe in that familiar “railway” smell. She also enjoyed riding The Vintage Locomotive Society’s historic tourist train The Prairie Dog Central. \n  \nBut the idea of collecting railway memories was never far from her mind. She interviewed people whenever she and husband\, Larry Lange\, a CN carman from the Transcona Repair and Maintenance Shops\, travelled across Canada by train. In collaboration with 30 other writers\, Through the Window of a Train: A Canadian Railway Anthology (Borealis Press) was published. Soon after its release in 2010 VIA Rail Canada included it in their souvenir selection\, thus realizing Barbara’s dream for the book as a travel companion. \n  \nIn 2019\, CN celebrated CN100\, its 100th anniversary\, and published “100 Years of Building a Legacy Together” featuring memories\, photographs\, drawings\, and historical material from a wide selection of sources. Several quotes from “Through the Window of a Train: A Canadian Railway Anthology” and Barbara’s second book “Memories of the Moonlight Special and Grand Beach Train Era” are included. \n  \nAnother exciting CN100 event was CN’s Moving Celebration tour\, a large-scale “showstopper” train which stopped in Quebec City\, Halifax\, Calgary\, Edmonton\, Vancouver\, Winnipeg\, Regina in 2019\, and New Orleans\, Memphis\, Chicago\, Ottawa\, Moncton\, Toronto and Montreal in 2020. Barbara was thrilled to discover both her books in the “book box container” display.  \n  \nAbout the Toronto Railway Museum\nThe Toronto Railway Museum (TRM) brings people together by telling stories of Toronto’s railway heritage. The Museum is located in the heart of downtown Toronto and is typically open year-round. TRM presents exhibits\, tours\, educational programs and publications that broaden the understanding and appreciation of Toronto’s rich railway history. TRM is committed to telling the stories of the railways\, and welcoming conversations of its varied experiences through its lecture series\, exhibits and integrated programming with a mission to learn from the past to make the future better. \n 
URL:https://railtest.marketaccess.ca/event/through-the-window-of-a-train-hilarious-hazardous-and-historical-memories-from-the-steam-era/
ATTACH;FMTTYPE=image/png:https://railtest.marketaccess.ca/wp-content/uploads/2021/09/TRM-website-event-banner-Through-the-Window-4.png
END:VEVENT
END:VCALENDAR