BEGIN:VCALENDAR
VERSION:2.0
PRODID:-//Toronto Railway Museum - ECPv6.15.20//NONSGML v1.0//EN
CALSCALE:GREGORIAN
METHOD:PUBLISH
X-ORIGINAL-URL:https://railtest.marketaccess.ca
X-WR-CALDESC:Events for Toronto Railway Museum
REFRESH-INTERVAL;VALUE=DURATION:PT1H
X-Robots-Tag:noindex
X-PUBLISHED-TTL:PT1H
BEGIN:VTIMEZONE
TZID:America/New_York
BEGIN:DAYLIGHT
TZOFFSETFROM:-0500
TZOFFSETTO:-0400
TZNAME:EDT
DTSTART:20200308T070000
END:DAYLIGHT
BEGIN:STANDARD
TZOFFSETFROM:-0400
TZOFFSETTO:-0500
TZNAME:EST
DTSTART:20201101T060000
END:STANDARD
BEGIN:DAYLIGHT
TZOFFSETFROM:-0500
TZOFFSETTO:-0400
TZNAME:EDT
DTSTART:20210314T070000
END:DAYLIGHT
BEGIN:STANDARD
TZOFFSETFROM:-0400
TZOFFSETTO:-0500
TZNAME:EST
DTSTART:20211107T060000
END:STANDARD
BEGIN:DAYLIGHT
TZOFFSETFROM:-0500
TZOFFSETTO:-0400
TZNAME:EDT
DTSTART:20220313T070000
END:DAYLIGHT
BEGIN:STANDARD
TZOFFSETFROM:-0400
TZOFFSETTO:-0500
TZNAME:EST
DTSTART:20221106T060000
END:STANDARD
BEGIN:DAYLIGHT
TZOFFSETFROM:-0500
TZOFFSETTO:-0400
TZNAME:EDT
DTSTART:20230312T070000
END:DAYLIGHT
BEGIN:STANDARD
TZOFFSETFROM:-0400
TZOFFSETTO:-0500
TZNAME:EST
DTSTART:20231105T060000
END:STANDARD
END:VTIMEZONE
BEGIN:VEVENT
DTSTART;TZID=America/New_York:20211118T120000
DTEND;TZID=America/New_York:20220828T170000
DTSTAMP:20260423T084124
CREATED:20211103T165755Z
LAST-MODIFIED:20220330T171314Z
UID:1708-1637236800-1661706000@railtest.marketaccess.ca
SUMMARY:George Paginton: Life and Work (Exhibit)
DESCRIPTION:George Paginton: Life and Work\nThe Toronto Railway Museum’s George Paginton exhibit features both paintings and pencil sketches of the artist. \nArtist George Paginton was inspired by the industrial landscape – including the Toronto rail lands. The exhibit is included in museum admission. The exhibition is on display until Summer 2022. \nAbout the George Paginton Exhibit\nThe Toronto Railway Museum’s George Paginton exhibit features both paintings and pencil sketches of the artist. \nInspired by the Canadian landscape\, including the industrial scenes of Toronto’s Rail Lands\, George Paginton’s direct\, truthful and rugged depiction of Canada served him as a personal escape. A younger contemporary of the famed Group of Seven\, his art shares in their painterly aspirations and has brought him in close proximity to their artistic milieu including the Studio Building in which some of the members shared working space. \nThe exhibit is on view in Stall 17 of the museum inside of the 1896 parlour car\, Nova Scotia. Plan your visit or browse tickets. \n  \nLearn more about the making of the exhibit on our blog! \n \n  \n 
URL:https://railtest.marketaccess.ca/event/george-paginton-life-and-work-exhibit/
LOCATION:Toronto Railway Museum\, 255 Bremner Blvd\, Stall 17\, Toronto\, Ontario\, M5V 3M9\, Canada
ATTACH;FMTTYPE=image/png:https://railtest.marketaccess.ca/wp-content/uploads/2021/11/TRM-website-event-banner-1.png
END:VEVENT
BEGIN:VEVENT
DTSTART;TZID=America/New_York:20220415T120000
DTEND;TZID=America/New_York:20220417T170000
DTSTAMP:20260423T084124
CREATED:20220409T171927Z
LAST-MODIFIED:20220409T171927Z
UID:2347-1650024000-1650214800@railtest.marketaccess.ca
SUMMARY:Holiday Weekend Hours
DESCRIPTION:Holiday Weekend Hours\nEaster Weekend Hours: \nFriday\, April 15: Open 12:00-5:00pm \nSaturday\, April 16: Open 12:00-5:00pm \nSunday\, April 17: Open 12:00-5:00pm \n  \nMonday\, April 18: Closed \nTuesday\, April 19: Closed \n  \nRegular hours resume Wednesday\, April 20. \n  \nStall 17 Museum \nThe museum space in Stall 17 is open to visitors on Easter weekend. Stop by to enjoy your favourite exhibits or browse our most popular gift shop items. The gift shop at Don Station remains closed. We are looking forward to welcoming you back to the museum! Masks and proof of vaccination are mandatory and museum capacity is limited. Please review our reopening announcement prior to your visit. Museum admission tickets should be pre-booked in advance.
URL:https://railtest.marketaccess.ca/event/holiday-weekend-hours/
END:VEVENT
BEGIN:VEVENT
DTSTART;TZID=America/New_York:20220416T130000
DTEND;TZID=America/New_York:20220416T150000
DTSTAMP:20260423T084124
CREATED:20220413T172541Z
LAST-MODIFIED:20220413T172541Z
UID:2376-1650114000-1650121200@railtest.marketaccess.ca
SUMMARY:Easter Egg Hunt
DESCRIPTION:On April 16\, join the Toronto Railway Museum to join in a special hunt. Families and children of all ages will enjoy the fun museum activities and egg hunt. \n  \n \nAdmission \nAdmission to the Easter Egg Hunt is free. Museum admission tickets should be pre-booked in advance.  \nProof of vaccination and face masks are required at the entrance. \nSome activities require museum admission. \n  \nAbout this event \nThe Toronto Railway Museum is happy to bring back our popular Easter Egg Hunt!  \nAt this event\, you will search Roundhouse Park for one of our hidden Easter eggs. When you find it\, bring it to the museum for your special prize!  \n  \nWe are so excited to welcome you to Toronto Railway Museum and hope you’ve enjoyed the event. \n  \nSAFETY \nThe safety and well-being of our visitors\, volunteers\, and museum staff are our highest priority. While we look forward to welcoming you back\, additional health and safety precautions are in place. We ask that visitors stay home if they have any symptoms of COVID-19 or are considered to be in a high-risk category. Before visiting\, please use Ontario Health’s self-assessment tool available here. \n  \nProof of COVID-19 Vaccination: All visitors aged 12 and older must be fully vaccinated. Proof of COVID-19 vaccination must be provided to enter the Museum. Click here for more information. Please note that these requirements will be maintained after March 21st. \n  \nWe require all staff and visitors to wear a mask. We require all visitors to wear a non-medical mask or face covering if they are able. We also ask that visitors frequently wash or sanitize hands and maintain physical distancing inside and outside of the museum and on tours. We thank our visitors in advance for complying with these new modifications. Learn more about the ways we’re working to provide a safe museum experience here. Please note that these requirements will be maintained after March 21st. \n  \nGETTING HERE \nTRANSIT: \nLine 1\, Union Station: Exit Union Station onto Front Street West. Next\, turn left and walk along Front Street West until you reach York Street. At York Street\, turn left and walk towards Bremner Boulevard. At Bremner Boulevard\, turn right\, and walk into Roundhouse Park. \n509/510 Harbourfront/Spadina streetcar\, Harbourfront Centre Stop: Get off of the streetcar at Harbourfront Centre\, walk towards Lower Simcoe St. and turn right. Walk up to Bremner Blvd and turn left\, walking towards Roundhouse Park. \nPARKING: \nMetro Toronto Convention Centre: The Metro Toronto Convention Centre has two parking lots in our area. The South Parking Lot is conveniently located underneath Roundhouse Park. Special parking rates are available during regular parkade operations (“Event Parking” rates not in effect) through a parking pass add-on. Find it when you purchase museum admission through Eventbrite here. \n  \nABOUT THE TORONTO RAILWAY MUSEUM (TRM) \nThe Toronto Railway Museum is a registered charity dedicated to sharing the stories of Toronto’s railways. By visiting and attending events\, you’re supporting our efforts in areas like restoration and education. To learn more about the ways you can support the museum\, visit TorontoRailwayMuseum.com/Support.
URL:https://railtest.marketaccess.ca/event/easter-egg-hunt/
LOCATION:Toronto Railway Museum\, 255 Bremner Blvd\, Stall 17\, Toronto\, Ontario\, M5V 3M9\, Canada
ATTACH;FMTTYPE=image/png:https://railtest.marketaccess.ca/wp-content/uploads/2022/04/7.TRM-website-event-banner-1200-x-500px.png
END:VEVENT
BEGIN:VEVENT
DTSTART;TZID=America/New_York:20220421T200000
DTEND;TZID=America/New_York:20220421T213000
DTSTAMP:20260423T084124
CREATED:20220319T171531Z
LAST-MODIFIED:20220401T160225Z
UID:2250-1650571200-1650576600@railtest.marketaccess.ca
SUMMARY:Online Lecture: The Missing Millionaire
DESCRIPTION:Join us! “The Missing Millionaire: The Ambrose Small Saga”. The next lecture event will be held on April 21st at 8pm EST. \n  \nOn April 21\, join the Toronto Railway Museum and Katie Daubs for an online lecture about the Small Mystery. Daubs will talk about the stranger-than-fiction characters in the Ambrose Small saga\, and the development of Toronto as the drama around his disappearance unfolded. The lecture will bring you back to December 1919 and the “extraordinary unsolved mystery”. \n  \nAt that time\, the railway was central to Small’s business\, as traveling shows of the era sent all of their actors\, props\, and scenery by rail. It was expensive for theatre companies\, and Daubs will explain how Small used that to his advantage as he built a cross-Ontario network of theatres\, connected by rail. \n  \nTICKETS \nTickets for this event are free\, although registration is required. Click here to register. \n  \nAttendees will get access to our exclusive Zoom meeting room\, where they can engage directly with the presenter and museum historians in a post-lecture Q&A. The event will begin at 8pm Eastern Standard Time\, and will end at 9:30pm EST. \n  \nABOUT KATIE DAUBS \nKatie Daubs is a journalist and a feature writer at the Toronto Star\, where she writes about many topics\, including local history. Before joining the Star\, she worked at the Ottawa Citizen and she was a graduate of Carleton University. The Missing Millionaire is her first book\, which was shortlisted for the 2020 Arthur Ellis Award for Excellence in Crime Writing (Best Non-Fiction Book) and the 2020 Toronto Book Awards. \nHonours and Awards: \n\nNomination — National Newspaper Award\, Long Feature (2017)\nWinner — William Southam Journalism Fellowship (2016)\nNomination — National Newspaper Award\, Long Feature (2015)\nNomination — National Newspaper Award\, Multimedia Feature (2014)\nWinner — National Newspaper Award\, Presentation (2012)\nWinner — Diane King-Stuemer Fellowship (2008)\n\n  \nABOUT THE TORONTO RAILWAY MUSEUM (TRM) \nThe Toronto Railway Museum (TRM) brings people together by telling stories of Toronto’s railway heritage. The Museum is located in the heart of downtown Toronto and is typically open year-round. TRM presents exhibits\, tours\, educational programs and publications that broaden the understanding and appreciation of Toronto’s rich railway history. TRM is committed to telling the stories of the railways\, and welcoming conversations of its varied experiences through its lecture series\, exhibits and integrated programming with a mission to learn from the past to make the future better. \n  \nThe Toronto Railway Museum would like to acknowledge the support of the Ontario Trillium Foundation’s Community Building Fund. More information is available here.  \n 
URL:https://railtest.marketaccess.ca/event/online-lecture-the-missing-millionaire/
ATTACH;FMTTYPE=image/png:https://railtest.marketaccess.ca/wp-content/uploads/2022/03/7.TRM-website-event-banner-1200-x-500px.png
END:VEVENT
END:VCALENDAR