BEGIN:VCALENDAR
VERSION:2.0
PRODID:-//Toronto Railway Museum - ECPv6.15.20//NONSGML v1.0//EN
CALSCALE:GREGORIAN
METHOD:PUBLISH
X-ORIGINAL-URL:https://railtest.marketaccess.ca
X-WR-CALDESC:Events for Toronto Railway Museum
REFRESH-INTERVAL;VALUE=DURATION:PT1H
X-Robots-Tag:noindex
X-PUBLISHED-TTL:PT1H
BEGIN:VTIMEZONE
TZID:America/New_York
BEGIN:DAYLIGHT
TZOFFSETFROM:-0500
TZOFFSETTO:-0400
TZNAME:EDT
DTSTART:20200308T070000
END:DAYLIGHT
BEGIN:STANDARD
TZOFFSETFROM:-0400
TZOFFSETTO:-0500
TZNAME:EST
DTSTART:20201101T060000
END:STANDARD
BEGIN:DAYLIGHT
TZOFFSETFROM:-0500
TZOFFSETTO:-0400
TZNAME:EDT
DTSTART:20210314T070000
END:DAYLIGHT
BEGIN:STANDARD
TZOFFSETFROM:-0400
TZOFFSETTO:-0500
TZNAME:EST
DTSTART:20211107T060000
END:STANDARD
BEGIN:DAYLIGHT
TZOFFSETFROM:-0500
TZOFFSETTO:-0400
TZNAME:EDT
DTSTART:20220313T070000
END:DAYLIGHT
BEGIN:STANDARD
TZOFFSETFROM:-0400
TZOFFSETTO:-0500
TZNAME:EST
DTSTART:20221106T060000
END:STANDARD
BEGIN:DAYLIGHT
TZOFFSETFROM:-0500
TZOFFSETTO:-0400
TZNAME:EDT
DTSTART:20230312T070000
END:DAYLIGHT
BEGIN:STANDARD
TZOFFSETFROM:-0400
TZOFFSETTO:-0500
TZNAME:EST
DTSTART:20231105T060000
END:STANDARD
END:VTIMEZONE
BEGIN:VEVENT
DTSTART;TZID=America/New_York:20211118T120000
DTEND;TZID=America/New_York:20220828T170000
DTSTAMP:20260423T040545
CREATED:20211103T165755Z
LAST-MODIFIED:20220330T171314Z
UID:1708-1637236800-1661706000@railtest.marketaccess.ca
SUMMARY:George Paginton: Life and Work (Exhibit)
DESCRIPTION:George Paginton: Life and Work\nThe Toronto Railway Museum’s George Paginton exhibit features both paintings and pencil sketches of the artist. \nArtist George Paginton was inspired by the industrial landscape – including the Toronto rail lands. The exhibit is included in museum admission. The exhibition is on display until Summer 2022. \nAbout the George Paginton Exhibit\nThe Toronto Railway Museum’s George Paginton exhibit features both paintings and pencil sketches of the artist. \nInspired by the Canadian landscape\, including the industrial scenes of Toronto’s Rail Lands\, George Paginton’s direct\, truthful and rugged depiction of Canada served him as a personal escape. A younger contemporary of the famed Group of Seven\, his art shares in their painterly aspirations and has brought him in close proximity to their artistic milieu including the Studio Building in which some of the members shared working space. \nThe exhibit is on view in Stall 17 of the museum inside of the 1896 parlour car\, Nova Scotia. Plan your visit or browse tickets. \n  \nLearn more about the making of the exhibit on our blog! \n \n  \n 
URL:https://railtest.marketaccess.ca/event/george-paginton-life-and-work-exhibit/
LOCATION:Toronto Railway Museum\, 255 Bremner Blvd\, Stall 17\, Toronto\, Ontario\, M5V 3M9\, Canada
ATTACH;FMTTYPE=image/png:https://railtest.marketaccess.ca/wp-content/uploads/2021/11/TRM-website-event-banner-1.png
END:VEVENT
BEGIN:VEVENT
DTSTART;TZID=America/New_York:20220701T120000
DTEND;TZID=America/New_York:20220703T170000
DTSTAMP:20260423T040545
CREATED:20220617T172535Z
LAST-MODIFIED:20220617T172623Z
UID:2593-1656676800-1656867600@railtest.marketaccess.ca
SUMMARY:Long Weekend Hours
DESCRIPTION:The Toronto Railway Museum is OPEN for Canada Day long weekend 2022. Visit the museum in Stall 17 of the John Street Roundhouse\, take a guided tour\, and ride the Mini Train. \nHours:\nFriday\, July 1: Open 12:00-5:00pm \nSaturday\, July 2: Open 12:00-5:00pm \nSunday\, July 3: Open 12:00-5:00pm \nMonday\, July 4: Closed \nTuesday\, July 5: Closed \n  \nRegular hours resume on Wednesday\, July 6. \n  \nStall 17 Museum\nThe museum space in Stall 17 is open to visitors on May Long Day weekend. Stop by to enjoy your favourite exhibits or browse our most popular gift shop items. We are looking forward to welcoming you to the museum! Masks are mandatory and museum capacity is limited.  \n  \nMini Train\nThe Miniature Train will run from 12:00-5:00pm (weather dependent). To clarify\, each Miniature Train trip will depart with limited riders to accommodate for physical distancing\, and face masks are mandatory on the platform and aboard the train. Tickets go on sale at 11:30am (ET) for the day of; bookmark our Eventbrite page here. \n  \nGuided Tours\nGuided tours are back for the summer at TRM! Sign up for a tour at the museum for a chance to climb aboard some of our rolling stock collection. Tours depart at 12:00pm\, 1:30pm\, 3:00pm\, and 4:00pm unless otherwise posted. Plan your visit. \n  \n  \n 
URL:https://railtest.marketaccess.ca/event/long-weekend-hours/
ATTACH;FMTTYPE=image/png:https://railtest.marketaccess.ca/wp-content/uploads/2022/06/YEARS.png
END:VEVENT
BEGIN:VEVENT
DTSTART;TZID=America/New_York:20220708T080000
DTEND;TZID=America/New_York:20220731T170000
DTSTAMP:20260423T040545
CREATED:20220624T203832Z
LAST-MODIFIED:20220624T204054Z
UID:2614-1657267200-1659286800@railtest.marketaccess.ca
SUMMARY:Historic Places Days 2022
DESCRIPTION:Join us for the month of July as we discover our rich and diverse history through #HistoricPlacesDays.  \nSELFIE CONTEST\nThe National Trust for Canada is giving away a total of $2000\, and over $10\,000 in prizes\, in support of Historic Places Days. Get creative with a selfie or photo\, and post it on Twitter\, Facebook or Instagram with the hashtag #HistoricPlacesDays before July 31 for a chance to win $1\,000! Enter the contest today.  \n \nCourtesy of Brooklynn St \n \nCourtesy of oaktreeb on Instagram \nTHE JOHN STREET ROUNDHOUSE\nThe Toronto Railway Museum is housed within the historic John Street Roundhouse. The best surviving example of a railway roundhouse in Canada\, John Street was build in 1929 to service passenger steam locomotives. Discover the John Street Roundhouse’s story.
URL:https://railtest.marketaccess.ca/event/historic-places-days-2022/
ATTACH;FMTTYPE=image/png:https://railtest.marketaccess.ca/wp-content/uploads/2022/06/YEARS-1.png
END:VEVENT
BEGIN:VEVENT
DTSTART;TZID=America/New_York:20220717T110000
DTEND;TZID=America/New_York:20221218T150000
DTSTAMP:20260423T040545
CREATED:20220713T192437Z
LAST-MODIFIED:20220903T194004Z
UID:2646-1658055600-1671375600@railtest.marketaccess.ca
SUMMARY:Roundhouse Park Farmers' Market
DESCRIPTION:Farmers’ market\nThe Roundhouse Farmers’ Market brings fresh\, local food to the historic setting of Roundhouse Park on Sundays from 11:00 am until 3:00 pm. From May to October\, the market is outdoors in Roundhouse Park. During the winter months\, the market is inside the Roundhouse in Stall 10. \n  \n 
URL:https://railtest.marketaccess.ca/event/roundhouse-park-farmers-market/
ATTACH;FMTTYPE=image/png:https://railtest.marketaccess.ca/wp-content/uploads/2022/07/YEARS.png
END:VEVENT
BEGIN:VEVENT
DTSTART;TZID=America/New_York:20220721T200000
DTEND;TZID=America/New_York:20220721T213000
DTSTAMP:20260423T040545
CREATED:20220617T164805Z
LAST-MODIFIED:20220714T163542Z
UID:2589-1658433600-1658439000@railtest.marketaccess.ca
SUMMARY:Museum Spotting: A Virtual Tour of Canada's Railway Museums
DESCRIPTION:Join us! “Museum Spotting: A Virtual Tour of Canada’s Railway Museums” on July 21st at 8 pm EST. \nThe Toronto Railway Museum is one of dozens of railway museums in Canada. In our July session of our Railway Ties  virtual lecture series\, we will hear from a selection of other railway museums across the country. Join us as we visit railway museums in Quebec\, Niagara Region\, Saskatchewan and Alberta. Hear stories of the railways from all around Canada\, and start planning your next cross-country railway museum trip! \nCLICK HERE TO GET YOUR FREE TICKET. \nTickets for this event are free\, although registration is required. \nAttendees will get access to our exclusive Zoom meeting room\, where they can engage directly with the presenter and museum historians in a post-lecture Q&A. The event will begin at 8pm Eastern Standard Time\, and will end at 9:30pm EST. \nPRESENTERS \nExporail\nNiagara Railway Museum\nSaskatchewan Railway Museum\nAlberta Railway Museum \nABOUT THE TORONTO RAILWAY MUSEUM (TRM) \nThe Toronto Railway Museum (TRM) brings people together by telling stories of Toronto’s railway heritage. The Museum is located in the heart of downtown Toronto and is typically open year-round. TRM presents exhibits\, tours\, educational programs and publications that broaden the understanding and appreciation of Toronto’s rich railway history. TRM is committed to telling the stories of the railways\, and welcoming conversations of its varied experiences through its lecture series\, exhibits and integrated programming with a mission to learn from the past to make the future better. \n  \nThe Toronto Railway Museum would like to acknowledge the support of the Ontario Trillium Foundation’s Community Building Fund. More information is available here. 
URL:https://railtest.marketaccess.ca/event/museum-spotting-a-virtual-tour-of-canadas-railway-museums/
ATTACH;FMTTYPE=image/png:https://railtest.marketaccess.ca/wp-content/uploads/2022/06/7.TRM-website-event-banner-1200-x-500px.png
END:VEVENT
BEGIN:VEVENT
DTSTART;TZID=America/New_York:20220730T120000
DTEND;TZID=America/New_York:20220803T170000
DTSTAMP:20260423T040545
CREATED:20220713T193236Z
LAST-MODIFIED:20220713T193236Z
UID:2649-1659182400-1659546000@railtest.marketaccess.ca
SUMMARY:Long Weekend Hours
DESCRIPTION:Holiday Weekend Hours\nAugust Long Weekend Hours: \nSaturday\, July 30: Open 12:00-5:00pm \nSunday\, July 31: Open 12:00-5:00pm \nMonday\, August 1: Open 12:00-5:00pm \nTuesday\, August 2: Closed \nWednesday\, August 3: Closed \n  \nRegular hours resume Thursday\, August 4. \n  \nStall 17 Museum\nThe museum space in Stall 17 is open to visitors for the August long weekend and closed from August 2-3. Stop by to enjoy your favourite exhibits\, drive the train simulator\, or ride the Mini Train.
URL:https://railtest.marketaccess.ca/event/long-weekend-hours-2/
ATTACH;FMTTYPE=image/png:https://railtest.marketaccess.ca/wp-content/uploads/2022/07/YEARS-1.png
END:VEVENT
END:VCALENDAR