BEGIN:VCALENDAR
VERSION:2.0
PRODID:-//Toronto Railway Museum - ECPv6.15.20//NONSGML v1.0//EN
CALSCALE:GREGORIAN
METHOD:PUBLISH
X-ORIGINAL-URL:https://railtest.marketaccess.ca
X-WR-CALDESC:Events for Toronto Railway Museum
REFRESH-INTERVAL;VALUE=DURATION:PT1H
X-Robots-Tag:noindex
X-PUBLISHED-TTL:PT1H
BEGIN:VTIMEZONE
TZID:America/New_York
BEGIN:DAYLIGHT
TZOFFSETFROM:-0500
TZOFFSETTO:-0400
TZNAME:EDT
DTSTART:20210314T070000
END:DAYLIGHT
BEGIN:STANDARD
TZOFFSETFROM:-0400
TZOFFSETTO:-0500
TZNAME:EST
DTSTART:20211107T060000
END:STANDARD
BEGIN:DAYLIGHT
TZOFFSETFROM:-0500
TZOFFSETTO:-0400
TZNAME:EDT
DTSTART:20220313T070000
END:DAYLIGHT
BEGIN:STANDARD
TZOFFSETFROM:-0400
TZOFFSETTO:-0500
TZNAME:EST
DTSTART:20221106T060000
END:STANDARD
BEGIN:DAYLIGHT
TZOFFSETFROM:-0500
TZOFFSETTO:-0400
TZNAME:EDT
DTSTART:20230312T070000
END:DAYLIGHT
BEGIN:STANDARD
TZOFFSETFROM:-0400
TZOFFSETTO:-0500
TZNAME:EST
DTSTART:20231105T060000
END:STANDARD
BEGIN:DAYLIGHT
TZOFFSETFROM:-0500
TZOFFSETTO:-0400
TZNAME:EDT
DTSTART:20240310T070000
END:DAYLIGHT
BEGIN:STANDARD
TZOFFSETFROM:-0400
TZOFFSETTO:-0500
TZNAME:EST
DTSTART:20241103T060000
END:STANDARD
END:VTIMEZONE
BEGIN:VEVENT
DTSTART;TZID=America/New_York:20221224T080000
DTEND;TZID=America/New_York:20230105T170000
DTSTAMP:20260422T181458
CREATED:20221112T182344Z
LAST-MODIFIED:20221118T161627Z
UID:2938-1671868800-1672938000@railtest.marketaccess.ca
SUMMARY:Holiday Hours
DESCRIPTION:Planning a museum visit this holiday? Please note our holiday hours:  \n  \nDecember 23: Open\, 12:00-5:00 PM \nDecember 24-27: Closed \nDecember 28-30: Open\, 12:00-5:00 PM \nDecember 31-January 3: Closed \nRegular hours resume on January 4 \n  \nStall 17 Museum\nThe museum space in Stall 17 is open to visitors on December 23\, and closed from December 24-27. The museum reopens December 28-30 and is closed December 31-January 3. Regular hours resume on January 4. \n  \nMuseum Store in Don Station\nPlease note the last day to shop at the museum store in Don Station will be December 30. After that\, please browse our museum store favourites inside the museum in Stall 17 of the John Street Roundhouse. The museum store will tentatively reopen in March/April\, weather dependant.
URL:https://railtest.marketaccess.ca/event/holiday-hours-2/
ATTACH;FMTTYPE=image/png:https://railtest.marketaccess.ca/wp-content/uploads/2022/07/YEARS-1.png
END:VEVENT
BEGIN:VEVENT
DTSTART;TZID=America/New_York:20230104T120000
DTEND;TZID=America/New_York:20230312T170000
DTSTAMP:20260422T181458
CREATED:20230121T175524Z
LAST-MODIFIED:20230308T211239Z
UID:3098-1672833600-1678640400@railtest.marketaccess.ca
SUMMARY:Museum Store Pop-Up
DESCRIPTION:Museum store favourites have moved inside to Stall 17 for the winter! Thank you for shopping at the museum store in Don Station. You can still shop favourites and best-sellers including books\, toys\, and branded merchandise inside the museum in Stall 17 of the John Street Roundhouse.  \n  \nPlease note: The museum store will return to Don Station on March 10. Please note that not all museum store items in the Stall 17 pop-up will be available during this time as we prepare to reopen in Don Station.
URL:https://railtest.marketaccess.ca/event/museum-store-pop-up/
ATTACH;FMTTYPE=image/png:https://railtest.marketaccess.ca/wp-content/uploads/2023/01/YEARS-1.png
END:VEVENT
BEGIN:VEVENT
DTSTART;TZID=America/New_York:20230119T190000
DTEND;TZID=America/New_York:20230119T203000
DTSTAMP:20260422T181458
CREATED:20221218T182834Z
LAST-MODIFIED:20230112T172410Z
UID:3051-1674154800-1674160200@railtest.marketaccess.ca
SUMMARY:Online Lecture: The Railways that Spurred Early Oil’s Expansion
DESCRIPTION:Join us for “The Railways that Spurred Early Oil’s Expansion”\, an online lecture on January 19! \n  \nBefore the arrival of the railroads local growth and development in Lambton County was at a standstill\, the marshy land was not attractive to new settlers. This all changed in 1858 with the arrival of the Grand Trunk Railroad and the first commercial oil well dug by James Miller Williams starting production in Oil Springs Ontario. The Black Gold Rush started attracting men from all over to seek their fortunes in the booming oil industry. The problems arise from lack of infrastructure on how to get this valuable product out of the swamps of Lambton. In this talk we will look at how the booming oil industry and railroads are intrinsically linked in Lambton County spurring development from the building of the private Petrolia Spur line to the St Clair Tunnel to the USA.   \n  \nSOLD OUT!\nPlease email manager@trha.ca to be added to the waitlist. \n  \nTickets for this event are free\, although registration is required. Please note this event has a limited capacity. A waitlist will be enabled if the event space sells out. \n  \nAttendees will get access to our exclusive Zoom meeting room\, where they can engage directly with the presenter and museum historians in a post-lecture Q&A. The event will begin at 7pm Eastern Standard Time\, and will end at approximately 8:30pm EST. \n  \nABOUT CHRISTINA SYDORKO \nChristina is a dedicated educator who strives to create exciting and informative educational experiences. She has an Honour’s Bachelor of Arts from the University of Western Ontario and a Bachelor of Education from Windsor University with subject specialization in History and Geography. Christina spent 15 years teaching in the Lambton Kent District School Board before moving to be the full time Educational Programs Coordinator at the Oil Museum of Canada\, National Historic Site in 2017. She has spearheaded the creation of the Travelling Trunks educational kits and virtual education programs at the museum with a focus on fact based education. Christina is also the recipient of the 2021 Award of Excellence in Programming from the Ontario Museum Association for virtual programs and the Lambton County Innovation Award for 2021.  Christina hopes to encourage a new generation of young people to find the wonder and exciting opportunities in the physical world around them. \n  \n  \nABOUT THE TORONTO RAILWAY MUSEUM (TRM) \nThe Toronto Railway Museum (TRM) brings people together by telling stories of Toronto’s railway heritage. The Museum is located in the heart of downtown Toronto and is typically open year-round. TRM presents exhibits\, tours\, educational programs and publications that broaden the understanding and appreciation of Toronto’s rich railway history. TRM is committed to telling the stories of the railways\, and welcoming conversations of its varied experiences through its lecture series\, exhibits and integrated programming with a mission to learn from the past to make the future better. \n 
URL:https://railtest.marketaccess.ca/event/online-lecture-the-railways-that-spurred-early-oils-expansion/
ATTACH;FMTTYPE=image/jpeg:https://railtest.marketaccess.ca/wp-content/uploads/2022/12/TRM-website-event-header-1100x400-1.jpg
END:VEVENT
END:VCALENDAR