BEGIN:VCALENDAR
VERSION:2.0
PRODID:-//Toronto Railway Museum - ECPv6.15.20//NONSGML v1.0//EN
CALSCALE:GREGORIAN
METHOD:PUBLISH
X-ORIGINAL-URL:https://railtest.marketaccess.ca
X-WR-CALDESC:Events for Toronto Railway Museum
REFRESH-INTERVAL;VALUE=DURATION:PT1H
X-Robots-Tag:noindex
X-PUBLISHED-TTL:PT1H
BEGIN:VTIMEZONE
TZID:America/New_York
BEGIN:DAYLIGHT
TZOFFSETFROM:-0500
TZOFFSETTO:-0400
TZNAME:EDT
DTSTART:20220313T070000
END:DAYLIGHT
BEGIN:STANDARD
TZOFFSETFROM:-0400
TZOFFSETTO:-0500
TZNAME:EST
DTSTART:20221106T060000
END:STANDARD
BEGIN:DAYLIGHT
TZOFFSETFROM:-0500
TZOFFSETTO:-0400
TZNAME:EDT
DTSTART:20230312T070000
END:DAYLIGHT
BEGIN:STANDARD
TZOFFSETFROM:-0400
TZOFFSETTO:-0500
TZNAME:EST
DTSTART:20231105T060000
END:STANDARD
BEGIN:DAYLIGHT
TZOFFSETFROM:-0500
TZOFFSETTO:-0400
TZNAME:EDT
DTSTART:20240310T070000
END:DAYLIGHT
BEGIN:STANDARD
TZOFFSETFROM:-0400
TZOFFSETTO:-0500
TZNAME:EST
DTSTART:20241103T060000
END:STANDARD
END:VTIMEZONE
BEGIN:VEVENT
DTSTART;TZID=America/New_York:20230615T123000
DTEND;TZID=America/New_York:20230813T160000
DTSTAMP:20260422T061210
CREATED:20230602T194910Z
LAST-MODIFIED:20230806T173456Z
UID:3395-1686832200-1691942400@railtest.marketaccess.ca
SUMMARY:Guided Tours at TRM
DESCRIPTION:Uncover the stories of Toronto’s railways with a guided tour! The Toronto Railway Museum Roundhouse Park Tour explores how Toronto’s railways shaped the social landscape of the city since their introduction in the early 1800s. How were Toronto’s oldest communities impacted by the development of the railways? Further\, what stories do our train cars tell? Join us to find out! Tours are in-depth\, guided walking tours that take visitors around the museum grounds and aboard some of the rolling stock on display. Tour length is approximately 30 minutes. \n\n\n\nTour Schedule\n\n\n\nGuided tours will be offered daily beginning on Thursday\, June 15 and run until Sunday\, August 13. Tours run at 12:30 pm\, 2:00 pm\, 3:00 pm\, and 4:00 pm. Tours are included in the price of museum admission and visitors can register to join a tour upon arrival to the museum. \n\n\n\nIf you have any tour questions\, please reach out via email manager@trha.ca or phone (416) 214-9229.
URL:https://railtest.marketaccess.ca/event/guided-tours-at-trm/
ATTACH;FMTTYPE=image/png:https://railtest.marketaccess.ca/wp-content/uploads/2023/06/Untitled.png
END:VEVENT
BEGIN:VEVENT
DTSTART;TZID=America/New_York:20230805T120000
DTEND;TZID=America/New_York:20230809T170000
DTSTAMP:20260422T061210
CREATED:20230709T165616Z
LAST-MODIFIED:20230715T190602Z
UID:3476-1691236800-1691600400@railtest.marketaccess.ca
SUMMARY:Long Weekend Hours
DESCRIPTION:TRM is open for the August long weekend! \n  \nThere’s lots to do at the museum this summer: Explore exhibits in Stall 17 with our audio guide\, test drive the simulator\, take a guided tour of the park\, and ride the Mini Train.  \n  \nDon’t forget to select a souvenir of your visit at the museum store in Don Station! \n  \nLong Weekend Hours: \nSaturday\, August 5: Open 12:00-5:00 pm \nSunday\, August 6: Open 12:00-5:00 pm \nMonday\, August 7: Open 12:00-5:00 pm \nTuesday\, August 8: Closed \nWednesday\, August 9: Closed \nRegular hours resume Thursday\, August 10.
URL:https://railtest.marketaccess.ca/event/long-weekend-hours-4/
END:VEVENT
BEGIN:VEVENT
DTSTART;TZID=America/New_York:20230817T190000
DTEND;TZID=America/New_York:20230817T203000
DTSTAMP:20260422T061210
CREATED:20230709T155443Z
LAST-MODIFIED:20230729T205858Z
UID:3474-1692298800-1692304200@railtest.marketaccess.ca
SUMMARY:Online Lecture: Beyond HFR: Advancing Passenger Rail Across Canada
DESCRIPTION:Join us for “Beyond HFR: Advancing Passenger Rail Across Canada”\, an online lecture on August 17! \nAn acronym for High Frequency Rail\, HFR is one of Canada’s biggest projects yet. The goal is simple\, to connect different parts of Canada by rail at faster speeds than we’ve never seen before. Join Terry Johnson\, Vice President of Transport Action Canada for his presentation about the opportunities for near-term improvements to passenger rail service and the challenges facing VIA Rail today. \n  \nTICKETS AVAILABLE NOW \n  \nABOUT TERRY JOHNSON \nTerry Johnson is president of Transport Action Canada\, the national advocacy organization for sustainable public transport\, and the voice of train\, bus and ferry passengers. He has been involved in passenger advocacy for more than a decade\, starting in Southwestern Ontario where has lived since coming to Canada in 2003. \n  \nHe has studied Railway Engineering at Technical University Delft\, leadership with the Ivey School of Business\, and has a Master’s in Politics and Economics from the University of Oxford. He is also an entrepreneur\, with experience in computer science and artificial intelligence\, and also volunteers with two social housing organizations\, and the VIA Historical Association. \n  \nABOUT THE TORONTO RAILWAY MUSEUM (TRM) \nThe Toronto Railway Museum (TRM) brings people together by telling stories of Toronto’s railway heritage. The Museum is located in the heart of downtown Toronto and is typically open year-round. TRM presents exhibits\, tours\, educational programs and publications that broaden the understanding and appreciation of Toronto’s rich railway history. TRM is committed to telling the stories of the railways\, and welcoming conversations of its varied experiences through its lecture series\, exhibits and integrated programming with a mission to learn from the past to make the future better.
URL:https://railtest.marketaccess.ca/event/online-lecture-beyond-hfr-advancing-passenger-rail-across-canada/
ATTACH;FMTTYPE=image/png:https://railtest.marketaccess.ca/wp-content/uploads/2023/07/7.TRM-website-event-banner-1200-x-500px-1.png
END:VEVENT
BEGIN:VEVENT
DTSTART;TZID=America/New_York:20230819T093000
DTEND;TZID=America/New_York:20230819T113000
DTSTAMP:20260422T061210
CREATED:20230802T141320Z
LAST-MODIFIED:20230802T141356Z
UID:3545-1692437400-1692444600@railtest.marketaccess.ca
SUMMARY:Community Weeding Party
DESCRIPTION:Help us clean and beautify the Roundhouse Park and Toronto Railway Museum. \nSaturday\, August 19th\nFrom 9:30 am to 11:30 am\nAt the Toronto Railway Museum (Roundhouse Park\, 255 Bremner Blvd) \nNo expertise needed – everything growing in the space is definitely a weed! \nIf you have gardening tools and can bring them with you it will be much appreciated. (We have some at the Museum\, but may not be enough for all volunteers.) \nWater and coffee available throughout the morning. Bring refillable water bottle if you are able and remember to wear hats\, sunblock\, closed shoes etc. \nConfirm your presence by clicking here. \n\nHave questions? Reach us at events@trha.ca\nFeel free to invite friends and family!
URL:https://railtest.marketaccess.ca/event/community-weeding-party/
END:VEVENT
BEGIN:VEVENT
DTSTART;TZID=America/New_York:20230824T150000
DTEND;TZID=America/New_York:20230824T170000
DTSTAMP:20260422T061210
CREATED:20230802T165948Z
LAST-MODIFIED:20230819T194458Z
UID:3549-1692889200-1692896400@railtest.marketaccess.ca
SUMMARY:Celebrate Ukrainian Independence Day
DESCRIPTION:Celebrate Ukrainian Independence Day at the Toronto Railway Museum \nAugust 24 is the Independence Day of Ukraine. TRM stands with its brave people and has a special gift for them – a journey through the history of Canadian railways delivered in Ukrainian! TRM introduced translated audio guides\, making Ukrainian the first international language available at the museum. \nThe project was concluded exclusively by our volunteers – thank you! The voice recording was done in public recording rooms available at the Digital Innovation Hubs of Toronto Public Library. All music and sound effects including authentic vintage train and railway station sounds were taken from royalty-free public domain archives. The first translation paved way for making railway history accessible for broader communities\, because TRM plans to have its guides available in multiple international languages in the future. \nAudio guides are accessible through the museum website\, and available here. \n  \nInterested? Visit us on August 24 and chat with one of our Ukrainian-speaking volunteers (look for the Ukrainian flags!). If you are keen to listen through the whole outdoor audio guides\, participate in our railway trivia\, and win a prize!
URL:https://railtest.marketaccess.ca/event/celebrate-ukrainian-independence-day/
ATTACH;FMTTYPE=image/jpeg:https://railtest.marketaccess.ca/wp-content/uploads/2023/08/IMG_8078.jpeg
END:VEVENT
END:VCALENDAR