BEGIN:VCALENDAR
VERSION:2.0
PRODID:-//Toronto Railway Museum - ECPv6.15.20//NONSGML v1.0//EN
CALSCALE:GREGORIAN
METHOD:PUBLISH
X-WR-CALNAME:Toronto Railway Museum
X-ORIGINAL-URL:https://railtest.marketaccess.ca
X-WR-CALDESC:Events for Toronto Railway Museum
REFRESH-INTERVAL;VALUE=DURATION:PT1H
X-Robots-Tag:noindex
X-PUBLISHED-TTL:PT1H
BEGIN:VTIMEZONE
TZID:America/New_York
BEGIN:DAYLIGHT
TZOFFSETFROM:-0500
TZOFFSETTO:-0400
TZNAME:EDT
DTSTART:20220313T070000
END:DAYLIGHT
BEGIN:STANDARD
TZOFFSETFROM:-0400
TZOFFSETTO:-0500
TZNAME:EST
DTSTART:20221106T060000
END:STANDARD
BEGIN:DAYLIGHT
TZOFFSETFROM:-0500
TZOFFSETTO:-0400
TZNAME:EDT
DTSTART:20230312T070000
END:DAYLIGHT
BEGIN:STANDARD
TZOFFSETFROM:-0400
TZOFFSETTO:-0500
TZNAME:EST
DTSTART:20231105T060000
END:STANDARD
BEGIN:DAYLIGHT
TZOFFSETFROM:-0500
TZOFFSETTO:-0400
TZNAME:EDT
DTSTART:20240310T070000
END:DAYLIGHT
BEGIN:STANDARD
TZOFFSETFROM:-0400
TZOFFSETTO:-0500
TZNAME:EST
DTSTART:20241103T060000
END:STANDARD
END:VTIMEZONE
BEGIN:VEVENT
DTSTART;TZID=America/New_York:20230901T120000
DTEND;TZID=America/New_York:20230906T170000
DTSTAMP:20260422T042230
CREATED:20230802T170720Z
LAST-MODIFIED:20230812T180717Z
UID:3551-1693569600-1694019600@railtest.marketaccess.ca
SUMMARY:Labour Day Weekend 2023
DESCRIPTION:Long Weekend Hours \n  \nThe Toronto Railway Museum is OPEN for Labour Day long weekend 2023. Visit the museum in Stall 17 of the John Street Roundhouse\, ride the Mini Train\, and browse the museum store in Don Station. Please note guided tours will not operate over the long weekend. \n  \nHours: \nFriday\, September 1: Open 12:00-5:00pm \nSaturday\, September 2: Open 12:00-5:00pm \nSunday\, September 3: Open 12:00-5:00pm \nMonday\, September 4: Open 12:00-5:00pm \n  \nTuesday\, September 5: Closed \nWednesday\, September 6: Closed \nRegular hours resume on Thursday\, September 7. \n  \nStall 17 Museum \nThe museum space in Stall 17 is open to visitors on Labour Day weekend. Visit the museum to time-travel back to when Toronto was covered in train tracks and the John Street Roundhouse was bustling with activity! Don’t forget to test drive the train simulator. Our train simulator transports you back to the Toronto Rail Lands in the 1950s.  \n  \nMuseum Store \nThe Toronto Railway Museum store carries a range of gifts\, toys\, souvenirs\, and books. By shopping with us\, you are supporting the preservation of Toronto’s railway heritage and all sales are in support of the museum. Find the museum store inside Don Station during museum hours. \n  \nMini Train \nThe Miniature Train will run from 12:00-5:00pm (weather dependent).  Tickets are sold on the platform at the Don Station ticket window. \n  \nBOARDING \nMini Train passengers are encouraged to line up along the Don Station platform 5 minutes before their ticket time slot begins. The train leaves promptly at the scheduled time. Look for the white tent and museum staff on the platform at Don Station.
URL:https://railtest.marketaccess.ca/event/labour-day-weekend-2023/
END:VEVENT
BEGIN:VEVENT
DTSTART;TZID=America/New_York:20230916T120000
DTEND;TZID=America/New_York:20230924T170000
DTSTAMP:20260422T042230
CREATED:20230826T152024Z
LAST-MODIFIED:20230903T165428Z
UID:3590-1694865600-1695574800@railtest.marketaccess.ca
SUMMARY:Rail Safety Week
DESCRIPTION:Celebrate the 20th annual Rail Safety Week with Operation Lifesaver and the Toronto Railway Museum!  \nRail Safety Week Launch\nOn Saturday\, September 16\, join us at 11:30 am as we unveil Look. Listen. Live. rail safety decals at the Mini Train crossing in Roundhouse Park. Decals are being unveiled across the country to remind pedestrians\, cyclists\, and motorists to exercise caution at rail crossings. Celebrate the launch of Rail Safety Week 2023 with museum and OL volunteers and supporters at the public unveiling. \nStory Time\nTune in for a Thomas & Friends story time on weekends during Rail Safety Week at 1:00 pm and 3:00 pm. Join us on the Don Station platform to follow along with Thomas as he learns valuable lessons on the dangers of not stopping at rail crossings\, standing too close to the platform edge\, or leaving farm gates open so that animals can wander onto the tracks. Participants will receive a copy of Stay Safe with Thomas to take home\, along with other goodies from the Operation Lifesaver team. \nStory time Schedule\n\nSaturday\, September 16: 1:00 pm and 3:00 pm\nSunday\, September 17: 1:00 pm and 3:00 pm\nFriday\, September 22: 1:00 pm and 3:00 pm\nSaturday\, September 23: 1:00 pm and 3:00 pm\nSunday\, September 24* (Tentative): 1:00 pm and 3:00 pm\n\nRail Safety Week Tent\nFind the Operation Lifesaver team on the Don Station platform during museum hours (12:00-5:00 pm) on event days to chat more about rail safety and pick up some Rail Safety Week swag. \n \nABOUT OPERATION LIFESAVER CANADA (OL)\nOperation Lifesaver Canada’s Rail Safety Week is critical to raising public awareness about rail safety and reminding Canadians that taking risks near tracks and trains could cost them a limb\, or their life. The Toronto Railway Museum is proud to participate in this year’s campaign to raise awareness about rail safety education. \nABOUT THE TORONTO RAILWAY MUSEUM (TRM)\nThe Toronto Railway Museum (TRM) brings people together by telling stories of Toronto’s railway heritage. The Museum is located in the heart of downtown Toronto and is typically open year-round. TRM presents exhibits\, tours\, educational programs and publications that broaden the understanding and appreciation of Toronto’s rich railway history. TRM is committed to telling the stories of the railways\, and welcoming conversations of its varied experiences through its lecture series\, exhibits and integrated programming with a mission to learn from the past to make the future better. \n 
URL:https://railtest.marketaccess.ca/event/rail-safety-week/
ATTACH;FMTTYPE=image/jpeg:https://railtest.marketaccess.ca/wp-content/uploads/2023/08/rail-safety-week_twitter-copy-6.jpg
END:VEVENT
BEGIN:VEVENT
DTSTART;TZID=America/New_York:20230923T093000
DTEND;TZID=America/New_York:20230923T113000
DTSTAMP:20260422T042230
CREATED:20230823T183828Z
LAST-MODIFIED:20230824T192652Z
UID:3581-1695461400-1695468600@railtest.marketaccess.ca
SUMMARY:Railway Garden Community Weeding Event
DESCRIPTION:Help the Toronto Railway Museum keep the grounds and Roundhouse Park looking great! \n  \nJoin us for a morning of gardening and weeding from 9:30 am – 11:30 am. No experience required\, if you have gardening tools please bring them! Limited tools will be available. \n  \nStay tuned for the registration link to sign up to volunteer! \n  \n  \n 
URL:https://railtest.marketaccess.ca/event/community-weeding-event/
END:VEVENT
END:VCALENDAR