BEGIN:VCALENDAR
VERSION:2.0
PRODID:-//Toronto Railway Museum - ECPv6.15.20//NONSGML v1.0//EN
CALSCALE:GREGORIAN
METHOD:PUBLISH
X-ORIGINAL-URL:https://railtest.marketaccess.ca
X-WR-CALDESC:Events for Toronto Railway Museum
REFRESH-INTERVAL;VALUE=DURATION:PT1H
X-Robots-Tag:noindex
X-PUBLISHED-TTL:PT1H
BEGIN:VTIMEZONE
TZID:America/New_York
BEGIN:DAYLIGHT
TZOFFSETFROM:-0500
TZOFFSETTO:-0400
TZNAME:EDT
DTSTART:20220313T070000
END:DAYLIGHT
BEGIN:STANDARD
TZOFFSETFROM:-0400
TZOFFSETTO:-0500
TZNAME:EST
DTSTART:20221106T060000
END:STANDARD
BEGIN:DAYLIGHT
TZOFFSETFROM:-0500
TZOFFSETTO:-0400
TZNAME:EDT
DTSTART:20230312T070000
END:DAYLIGHT
BEGIN:STANDARD
TZOFFSETFROM:-0400
TZOFFSETTO:-0500
TZNAME:EST
DTSTART:20231105T060000
END:STANDARD
BEGIN:DAYLIGHT
TZOFFSETFROM:-0500
TZOFFSETTO:-0400
TZNAME:EDT
DTSTART:20240310T070000
END:DAYLIGHT
BEGIN:STANDARD
TZOFFSETFROM:-0400
TZOFFSETTO:-0500
TZNAME:EST
DTSTART:20241103T060000
END:STANDARD
BEGIN:DAYLIGHT
TZOFFSETFROM:-0500
TZOFFSETTO:-0400
TZNAME:EDT
DTSTART:20250309T070000
END:DAYLIGHT
BEGIN:STANDARD
TZOFFSETFROM:-0400
TZOFFSETTO:-0500
TZNAME:EST
DTSTART:20251102T060000
END:STANDARD
END:VTIMEZONE
BEGIN:VEVENT
DTSTART;TZID=America/New_York:20231214T190000
DTEND;TZID=America/New_York:20231214T203000
DTSTAMP:20260421T230238
CREATED:20231021T151816Z
LAST-MODIFIED:20231201T194231Z
UID:3663-1702580400-1702585800@railtest.marketaccess.ca
SUMMARY:Online Lecture: Halifax Explosion and the Role of Railways
DESCRIPTION:Join us for “Halifax Explosion and the Role of Railways\,” an online lecture on December 14! \n  \nOn December 6\, 1917 the SS Mont-Blanc collided with the SS Imo in the harbour of Halifax\, Nova Scotia. What resulted was a devastating explosion that caused many deaths\, many more casualties\, and the destruction of Halifax itself. This explosion is still regarded as one of the largest human-engineered explosions on record and is an unforgettable part of 20th century Canadian history. Responding to the disaster was a collective effort that included the railways in northeastern Canada and the US. Join Roger Sarty and the TRM on December 14th\, 2023 to learn more about the disaster and the railway’s role in the recovery from the explosion. \n  \nGET TICKETS HERE \n  \nABOUT ROGER SARTY \nRoger Sarty\, professor emeritus\, Wilfrid Laurier University\, was previously deputy director of the Canadian War Museum\, and Senior Historian at the Department of National Defence. He is the author\, co-author or editor of more than a dozen books\, including the official history of the Royal Canadian Navy in the Second World War. At the Canadian War Museum he led the team that produced the exhibits for the new building that opened at Vimy Place in Ottawa in 2005. His interest in military history developed during his childhood in Halifax\, not least because of the stories then current among older residents and their children about the great explosion of 1917. He was privileged to edit the manuscript of the noted journalist\, the late Joseph Scanlon\, for publication as Catastrophe: Stories and Lessons from the Halifax Explosion (Wilfrid Laurier University Press\, 2020). \n  \nABOUT THE TORONTO RAILWAY MUSEUM (TRM) \nThe Toronto Railway Museum (TRM) brings people together by telling stories of Toronto’s railway heritage. The Museum is located in the heart of downtown Toronto and is typically open year-round. TRM presents exhibits\, tours\, educational programs and publications that broaden the understanding and appreciation of Toronto’s rich railway history. TRM is committed to telling the stories of the railways\, and welcoming conversations of its varied experiences through its lecture series\, exhibits and integrated programming with a mission to learn from the past to make the future better. \n  \n  \n  \n 
URL:https://railtest.marketaccess.ca/event/online-lecture-to-be-announced/
ATTACH;FMTTYPE=image/png:https://railtest.marketaccess.ca/wp-content/uploads/2023/10/7.TRM-website-event-banner-1200-x-500px-1.png
END:VEVENT
BEGIN:VEVENT
DTSTART;TZID=America/New_York:20231216T110000
DTEND;TZID=America/New_York:20231216T160000
DTSTAMP:20260421T230238
CREATED:20231122T144517Z
LAST-MODIFIED:20231130T175334Z
UID:3721-1702724400-1702742400@railtest.marketaccess.ca
SUMMARY:Christmas at TRM
DESCRIPTION:Join us on Saturday\, December 16 to celebrate the holidays at TRM\, from 11:00 am – 4:00 pm. \nFree! Some activities require museum admission. \n  \nChristmas is here at the Roundhouse! On Saturday December 16\, join the Toronto Railway Museum for a family Christmas event. Get into the holiday spirit with story time and hot chocolate inside the museum. Plus\, explore exhibits\, test drive the train simulator\, take photos with our Porter locomotive\, and visit the Operation Lifesaver pop-up! \n  \nThemed Photo Spot \nSnap a photo (or two) with Porter\, our miniature compressed air locomotive all dressed up for the season! \n  \nFestive Story Time \nTune in for a fun and festive family story time at the Toronto Railway Museum! Join us inside the museum (admission required) and listen to some classic railway story books read out loud. \n  \nOperation Lifesaver Pop-up \nOperation Lifesaver is back with goodies to hand out all while promoting railway safety for all! Find their booth inside Don Station during the event.  \n  \n  \nThe museum in Stall 17 will be open as usual until 5:00 pm; event activities end at 4:00 pm.
URL:https://railtest.marketaccess.ca/event/christmas-at-trm/
END:VEVENT
BEGIN:VEVENT
DTSTART;TZID=America/New_York:20231224T120000
DTEND;TZID=America/New_York:20240103T170000
DTSTAMP:20260421T230238
CREATED:20231103T162422Z
LAST-MODIFIED:20231130T181013Z
UID:3688-1703419200-1704301200@railtest.marketaccess.ca
SUMMARY:Holiday Hours 2023-2024
DESCRIPTION:Happy holidays! Please note changes to our regular hours: \nHOURS\nDecember 23: Open\, 12:00 pm – 5:00 pm \nDecember 24-28: Closed \nDecember 29: Open\, 12:00 pm – 5:00 pm \nDecember 30: Open\, 12:00 pm – 5:00 pm \nDecember 31-January 2: Closed \nRegular hours resume Wednesday\, January 3\, 2024 \n  \nThe museum and museum store in Don Station will be closed for the holidays from Saturday\, December 24 to Thursday\, December 28. The museum will be open December 29 and 30\, then closed for New Years from Sunday\, December 31 to Tuesday\, January 2. Regular hours resume January 3. \nStall 17 Museum \nVisit the museum to time-travel back to when Toronto was covered in train tracks and the John Street Roundhouse was bustling with activity! Don’t forget to test drive the train simulator. Our train simulator transports you back to the Toronto Rail Lands in the 1950s. Or\, explore exhibits with our audio guides using your own device. \n  \nMuseum Store \nThe Toronto Railway Museum store carries a range of gifts\, toys\, souvenirs\, and books. By shopping with us\, you are supporting the preservation of Toronto’s railway heritage and all sales are in support of the museum. Find the museum store inside Don Station during museum hours.  \nThe museum store will close for the season at the end of the month\, with a pop-up storefront coming to Stall 17 in the new year.
URL:https://railtest.marketaccess.ca/event/holiday-hours-2023-2024/
ATTACH;FMTTYPE=image/png:https://railtest.marketaccess.ca/wp-content/uploads/2022/07/YEARS-1.png
END:VEVENT
END:VCALENDAR