BEGIN:VCALENDAR
VERSION:2.0
PRODID:-//Toronto Railway Museum - ECPv6.15.20//NONSGML v1.0//EN
CALSCALE:GREGORIAN
METHOD:PUBLISH
X-ORIGINAL-URL:https://railtest.marketaccess.ca
X-WR-CALDESC:Events for Toronto Railway Museum
REFRESH-INTERVAL;VALUE=DURATION:PT1H
X-Robots-Tag:noindex
X-PUBLISHED-TTL:PT1H
BEGIN:VTIMEZONE
TZID:America/New_York
BEGIN:DAYLIGHT
TZOFFSETFROM:-0500
TZOFFSETTO:-0400
TZNAME:EDT
DTSTART:20230312T070000
END:DAYLIGHT
BEGIN:STANDARD
TZOFFSETFROM:-0400
TZOFFSETTO:-0500
TZNAME:EST
DTSTART:20231105T060000
END:STANDARD
BEGIN:DAYLIGHT
TZOFFSETFROM:-0500
TZOFFSETTO:-0400
TZNAME:EDT
DTSTART:20240310T070000
END:DAYLIGHT
BEGIN:STANDARD
TZOFFSETFROM:-0400
TZOFFSETTO:-0500
TZNAME:EST
DTSTART:20241103T060000
END:STANDARD
BEGIN:DAYLIGHT
TZOFFSETFROM:-0500
TZOFFSETTO:-0400
TZNAME:EDT
DTSTART:20250309T070000
END:DAYLIGHT
BEGIN:STANDARD
TZOFFSETFROM:-0400
TZOFFSETTO:-0500
TZNAME:EST
DTSTART:20251102T060000
END:STANDARD
END:VTIMEZONE
BEGIN:VEVENT
DTSTART;TZID=America/New_York:20240101T080000
DTEND;TZID=America/New_York:20241231T170000
DTSTAMP:20260421T175300
CREATED:20230602T162914Z
LAST-MODIFIED:20231230T161645Z
UID:3371-1704096000-1735664400@railtest.marketaccess.ca
SUMMARY:Online Exhibit: On The Rails
DESCRIPTION:The Toronto Railway Museum is pleased to announce the launch of On the Rails: The Experiences of Toronto’s Railway Workers\, a new digital exhibit. The online project is available to the public beginning on June 2\, 2023 and was developed with funding from the Digital Museums Canada investment program. \nOn the Rails explores the unique and everyday challenges of Toronto’s past and current railway workers. Hop aboard to discover the jobs of Canada’s sleeping car porters\, the behind-the-scenes duties at Union Station\, and other first-hand experiences of railway professionals. On the Rails presents these narratives through interviews\, photos\, and artifacts. \nEXPLORE THE ONLINE EXHIBIT HERE \n 
URL:https://railtest.marketaccess.ca/event/online-exhibit-on-the-rails/
ATTACH;FMTTYPE=image/png:https://railtest.marketaccess.ca/wp-content/uploads/2023/06/cropped-Online-Exhibit.png
END:VEVENT
BEGIN:VEVENT
DTSTART;TZID=America/New_York:20240110T120000
DTEND;TZID=America/New_York:20240310T170000
DTSTAMP:20260421T175300
CREATED:20240105T183945Z
LAST-MODIFIED:20240111T152421Z
UID:3774-1704888000-1710090000@railtest.marketaccess.ca
SUMMARY:Museum Store Pop-up
DESCRIPTION:The Museum Store Pop-Up at the Toronto Railway Museum is back! Shop our best selling gifts and souvenirs inside Stall 17. Keep an eye out for special offers this winter – stop by during museum hours: Wednesday-Sunday\, 12:00 pm – 5:00 pm. \n  \nOnce the weather warms up\, the museum store in Don Station will return to regular operations.
URL:https://railtest.marketaccess.ca/event/temporary-closure-museum-store/
END:VEVENT
BEGIN:VEVENT
DTSTART;TZID=America/New_York:20240313T120000
DTEND;TZID=America/New_York:20240317T170000
DTSTAMP:20260421T175300
CREATED:20240313T144831Z
LAST-MODIFIED:20240313T161114Z
UID:3876-1710331200-1710694800@railtest.marketaccess.ca
SUMMARY:March Break 2024
DESCRIPTION:Join us at the museum for March Break 2024\, March 13-17! \n  \nStall 17 Museum\nThe museum space in Stall 17 is open to visitors Wednesday-Sunday 12:00 pm – 5:00 pm. Stop by to enjoy exhibits\, kids activities\, and the train simulator. \nSaturday\, March 16 Story Time \n2:00 PM – 5:00 PM \nSunday\, March 17 Story Time \n1:00 PM – 4:00 PM \nMuseum Store\nThe museum store in Don Station is back! Join us starting March 13 back inside Don Station to shop books\, toys\, and railway gifts. Learn more about the museum store. \nPlus! Visit the museum store on Saturday\, March 16 to meet artist Joseph Zhuang. The Toronto-based artist behind Joe Design Co.\, Joseph has designed several custom rolling stock artworks for TRM. \nGUIDED TOURS\nJoin us this week for a guided tour of our rolling stock – climb aboard and explore Toronto’s railway stories. Tours are dependent on volunteer availability\, and run at 12:30 pm\, 2:00 pm\, 3:00 pm\, and 4:00 pm. \n 
URL:https://railtest.marketaccess.ca/event/march-break-2024/
END:VEVENT
BEGIN:VEVENT
DTSTART;TZID=America/New_York:20240323T140000
DTEND;TZID=America/New_York:20240429T160000
DTSTAMP:20260421T175300
CREATED:20231029T170345Z
LAST-MODIFIED:20240502T151823Z
UID:3677-1711202400-1714406400@railtest.marketaccess.ca
SUMMARY:Weekend Story Time
DESCRIPTION:  \nJoin us at TRM for Weekend Story Time! \nJoin us for story time at the museum on Saturdays and Sundays this spring for story time! Tune in for railway-themed stories\, then explore the museum with a kids’ guide activity book. \nSaturdays: 2:00 pm – 5:00 pm \nSundays: 1:00 pm – 4:00 pm \nWeekend Story Time is included with museum admission and runs all afternoon\, pending volunteer availability.
URL:https://railtest.marketaccess.ca/event/saturday-story-time/
ATTACH;FMTTYPE=image/png:https://railtest.marketaccess.ca/wp-content/uploads/2023/10/STORY-TIME.png
END:VEVENT
BEGIN:VEVENT
DTSTART;TZID=America/New_York:20240328T120000
DTEND;TZID=America/New_York:20240328T170000
DTSTAMP:20260421T175300
CREATED:20240324T134524Z
LAST-MODIFIED:20240324T134524Z
UID:3894-1711627200-1711645200@railtest.marketaccess.ca
SUMMARY:Museum Store Closure
DESCRIPTION:Please note the museum store in Don Station will be closed Friday\, March 29\, 2024 for scheduled annual inventory. We apologize for any inconvenience.  \n  \n 
URL:https://railtest.marketaccess.ca/event/museum-store-closure-3/
END:VEVENT
BEGIN:VEVENT
DTSTART;TZID=America/New_York:20240329T120000
DTEND;TZID=America/New_York:20240402T170000
DTSTAMP:20260421T175300
CREATED:20240320T140845Z
LAST-MODIFIED:20240320T140845Z
UID:3888-1711713600-1712077200@railtest.marketaccess.ca
SUMMARY:Easter Long Weekend Hours 2024
DESCRIPTION:The Toronto Railway Museum is open on Friday\, March 29\, Saturday\, March 30\, and Sunday\, March 31. The museum is closed as normal on Monday\, April 1 and Tuesday\, April 2.   \n  \nVisit the museum in Stall 17 of the John Street Roundhouse and browse the museum store in Don Station. \n  \nHours: \nFriday\, March 29:  Open\, 12:00-5:00 pm \nSaturday\, March 30: Open\, 12:00-5:00 pm \nSunday\, March 31: Open\, 12:00-5:00 pm \nMonday\, April 1: Closed \nTuesday\, April 2: Closed \nRegular hours resume Wednesday\, April 3.  \n  \nStall 17 Museum \nThe museum space in Stall 17 is open to visitors for Easter weekend! Visit the museum to time-travel back to when Toronto was covered in train tracks and the John Street Roundhouse was bustling with activity! Don’t forget to test drive the train simulator. Our train simulator transports you back to the Toronto Rail Lands in the 1950s.  \n  \nMuseum Store \nThe Toronto Railway Museum store carries a range of gifts\, toys\, souvenirs\, and books. By shopping with us\, you are supporting the preservation of Toronto’s railway heritage and all sales are in support of the museum. Find the museum store inside Don Station during museum hours.
URL:https://railtest.marketaccess.ca/event/easter-long-weekend-hours-2024/
END:VEVENT
END:VCALENDAR