BEGIN:VCALENDAR
VERSION:2.0
PRODID:-//Toronto Railway Museum - ECPv6.15.20//NONSGML v1.0//EN
CALSCALE:GREGORIAN
METHOD:PUBLISH
X-ORIGINAL-URL:https://railtest.marketaccess.ca
X-WR-CALDESC:Events for Toronto Railway Museum
REFRESH-INTERVAL;VALUE=DURATION:PT1H
X-Robots-Tag:noindex
X-PUBLISHED-TTL:PT1H
BEGIN:VTIMEZONE
TZID:America/New_York
BEGIN:DAYLIGHT
TZOFFSETFROM:-0500
TZOFFSETTO:-0400
TZNAME:EDT
DTSTART:20230312T070000
END:DAYLIGHT
BEGIN:STANDARD
TZOFFSETFROM:-0400
TZOFFSETTO:-0500
TZNAME:EST
DTSTART:20231105T060000
END:STANDARD
BEGIN:DAYLIGHT
TZOFFSETFROM:-0500
TZOFFSETTO:-0400
TZNAME:EDT
DTSTART:20240310T070000
END:DAYLIGHT
BEGIN:STANDARD
TZOFFSETFROM:-0400
TZOFFSETTO:-0500
TZNAME:EST
DTSTART:20241103T060000
END:STANDARD
BEGIN:DAYLIGHT
TZOFFSETFROM:-0500
TZOFFSETTO:-0400
TZNAME:EDT
DTSTART:20250309T070000
END:DAYLIGHT
BEGIN:STANDARD
TZOFFSETFROM:-0400
TZOFFSETTO:-0500
TZNAME:EST
DTSTART:20251102T060000
END:STANDARD
END:VTIMEZONE
BEGIN:VEVENT
DTSTART;TZID=America/New_York:20240101T080000
DTEND;TZID=America/New_York:20241231T170000
DTSTAMP:20260421T130604
CREATED:20230602T162914Z
LAST-MODIFIED:20231230T161645Z
UID:3371-1704096000-1735664400@railtest.marketaccess.ca
SUMMARY:Online Exhibit: On The Rails
DESCRIPTION:The Toronto Railway Museum is pleased to announce the launch of On the Rails: The Experiences of Toronto’s Railway Workers\, a new digital exhibit. The online project is available to the public beginning on June 2\, 2023 and was developed with funding from the Digital Museums Canada investment program. \nOn the Rails explores the unique and everyday challenges of Toronto’s past and current railway workers. Hop aboard to discover the jobs of Canada’s sleeping car porters\, the behind-the-scenes duties at Union Station\, and other first-hand experiences of railway professionals. On the Rails presents these narratives through interviews\, photos\, and artifacts. \nEXPLORE THE ONLINE EXHIBIT HERE \n 
URL:https://railtest.marketaccess.ca/event/online-exhibit-on-the-rails/
ATTACH;FMTTYPE=image/png:https://railtest.marketaccess.ca/wp-content/uploads/2023/06/cropped-Online-Exhibit.png
END:VEVENT
BEGIN:VEVENT
DTSTART;TZID=America/New_York:20240505T130000
DTEND;TZID=America/New_York:20240630T160000
DTSTAMP:20260421T130604
CREATED:20240502T152027Z
LAST-MODIFIED:20240502T152027Z
UID:3981-1714914000-1719763200@railtest.marketaccess.ca
SUMMARY:Sunday Story Time
DESCRIPTION:  \nJoin us at TRM for Sunday Story Time! \nJoin us for story time at the museum on Sundays in May and June for story time! Tune in for railway-themed stories\, then explore the museum with a kids’ guide activity book. \nSundays: 1:00 pm – 4:00 pm \nWeekend Story Time is included with museum admission and runs all afternoon\, pending volunteer availability. \nPlease note there will be no story time on Sunday\, May 26 as it is Doors Open Toronto. 
URL:https://railtest.marketaccess.ca/event/sunday-story-time/
ATTACH;FMTTYPE=image/jpeg:https://railtest.marketaccess.ca/wp-content/uploads/2023/10/GEtY7h9WUAAeSlv.jpg
END:VEVENT
BEGIN:VEVENT
DTSTART;TZID=America/New_York:20240608T120000
DTEND;TZID=America/New_York:20240608T170000
DTSTAMP:20260421T130604
CREATED:20240520T194512Z
LAST-MODIFIED:20240520T194512Z
UID:4013-1717848000-1717866000@railtest.marketaccess.ca
SUMMARY:Mini Train Closed
DESCRIPTION:Please note the Mini Train will be closed Saturday\, June 8 for staff training. Mini Train operations will resume on Sunday\, June 9. \n  \nWednesday-Sunday Mini Train operations begin Wednesday\, June 12 and will run until Labour Day. \n  \nMini Train is weather and track-condition permitting. Please call the museum (416)214-9229 for most up-to-date operations schedule. 
URL:https://railtest.marketaccess.ca/event/mini-train-closed/
END:VEVENT
BEGIN:VEVENT
DTSTART;TZID=America/New_York:20240608T150000
DTEND;TZID=America/New_York:20240609T170000
DTSTAMP:20260421T130604
CREATED:20240516T173305Z
LAST-MODIFIED:20240606T202853Z
UID:4003-1717858800-1717952400@railtest.marketaccess.ca
SUMMARY:Delayed Museum Opening
DESCRIPTION:Please note the museum in Stall 17 of the Roundhouse will have a late opening time on Saturday\, June 8 and Sunday\, June 9 due to staff training. \nPlease note the Mini Train will be closed Saturday\, June 8 for staff training. Mini Train operations will resume on Sunday\, June 9. Full-time\, 5-day operations of the Mini Train begin on Thursday\, June 13! \nThe museum will open at approximately 3:00 pm and close at 5:00 pm on June 8 and 9. Regular hours museum resume Wednesday\, June 12.  \n  \n 
URL:https://railtest.marketaccess.ca/event/delayed-museum-opening-2/
ATTACH;FMTTYPE=image/png:https://railtest.marketaccess.ca/wp-content/uploads/2022/07/YEARS-2.png
END:VEVENT
BEGIN:VEVENT
DTSTART;TZID=America/New_York:20240615T120000
DTEND;TZID=America/New_York:20240615T170000
DTSTAMP:20260421T130604
CREATED:20240613T195221Z
LAST-MODIFIED:20240613T195221Z
UID:4040-1718452800-1718470800@railtest.marketaccess.ca
SUMMARY:Museum Store Closure
DESCRIPTION:Please note the museum store in Don Station will be closed Saturday\, June 15\, 2024. We apologize for any inconvenience. 
URL:https://railtest.marketaccess.ca/event/museum-store-closure-4/
END:VEVENT
BEGIN:VEVENT
DTSTART;TZID=America/New_York:20240620T120000
DTEND;TZID=America/New_York:20240621T170000
DTSTAMP:20260421T130604
CREATED:20240619T183812Z
LAST-MODIFIED:20240619T183812Z
UID:4044-1718884800-1718989200@railtest.marketaccess.ca
SUMMARY:Museum Store Closure
DESCRIPTION:Please note the museum store in Don Station will be closed Thursday June 20th and Friday 21st. We apologize for any inconvenience.
URL:https://railtest.marketaccess.ca/event/museum-store-closure-5/
END:VEVENT
BEGIN:VEVENT
DTSTART;TZID=America/New_York:20240622T093000
DTEND;TZID=America/New_York:20240622T113000
DTSTAMP:20260421T130604
CREATED:20240424T154053Z
LAST-MODIFIED:20240621T151014Z
UID:3959-1719048600-1719055800@railtest.marketaccess.ca
SUMMARY:CANCELLED - Weeding Party June
DESCRIPTION:NOTICE: THIS EVENT HAS BEEN CANCELLED.  \nHelp us clean and beautify Toronto Railway Museum and Roundhouse Park! \nMeet your community\, do good\, and get outside on Saturday\, June 22! Join the TRM team for a volunteer weeding party.  \nAll are welcome. No expertise needed – everything growing thing in the space is definitely a weed! \nIf you have gardening gloves and tools and can bring them with you it will much appreciated. (We have some at the Museum\, but may not be enough for all volunteers.) \nNotes: Bring refillable water bottle if you are able and remember to wear hats\, sunblock\, closed-toe shoes etc.  \nSign up link coming soon! \nHave questions? Reach us at events@trha.ca \n  \nThank you to our friends at Toronto Parks\, Forestry\, and Recreation and the Steam Whistle Brewery for their support of this TRM initiative.
URL:https://railtest.marketaccess.ca/event/weeding-party-june/
ATTACH;FMTTYPE=image/png:https://railtest.marketaccess.ca/wp-content/uploads/2024/04/Weeding-Party-web-event-24-1.png
END:VEVENT
BEGIN:VEVENT
DTSTART;TZID=America/New_York:20240629T120000
DTEND;TZID=America/New_York:20240701T170000
DTSTAMP:20260421T130604
CREATED:20240628T151937Z
LAST-MODIFIED:20240628T152012Z
UID:4051-1719662400-1719853200@railtest.marketaccess.ca
SUMMARY:Long Weekend Hours
DESCRIPTION:The Toronto Railway Museum is OPEN for June / July long weekend 2024. Visit the museum in Stall 17 of the John Street Roundhouse\, ride the Mini Train\, and browse the museum store in Don Station. \n  \nHours: \nSaturday\, June 29: Open 12:00-5:00pm \nSunday\, June 30: Open 12:00-5:00pm \nMonday\, July 1: Open 12:00-5:00pm \n  \nTuesday\, July 2: Closed \nWednesday\, July 3: Closed \nRegular hours resume on Thursday\, June 4. \n  \nStall 17 Museum \nThe museum space in Stall 17 is open to visitors on May Long Day weekend. Visit the museum to time-travel back to when Toronto was covered in train tracks and the John Street Roundhouse was bustling with activity! Don’t forget to test drive the train simulator. Our train simulator transports you back to the Toronto Rail Lands in the 1950s.  \n  \nMuseum Store \nThe Toronto Railway Museum store carries a range of gifts\, toys\, souvenirs\, and books. By shopping with us\, you are supporting the preservation of Toronto’s railway heritage and all sales are in support of the museum. Find the museum store inside Don Station during museum hours. \n  \nMini Train \nThe Miniature Train will run from 12:00-5:00pm (weather dependent). Tickets available for purchase onsite at Don Station.
URL:https://railtest.marketaccess.ca/event/long-weekend-hours-6/
ATTACH;FMTTYPE=image/png:https://railtest.marketaccess.ca/wp-content/uploads/2022/07/YEARS-1.png
END:VEVENT
END:VCALENDAR